BEGIN:VCALENDAR
VERSION:2.0
PRODID:-//The Siren, Morro Bay, CA - ECPv5.1.6//NONSGML v1.0//EN
CALSCALE:GREGORIAN
METHOD:PUBLISH
X-WR-CALNAME:The Siren, Morro Bay, CA
X-ORIGINAL-URL:https://thesirenmorrobay.com
X-WR-CALDESC:Events for The Siren, Morro Bay, CA
BEGIN:VTIMEZONE
TZID:America/Los_Angeles
BEGIN:DAYLIGHT
TZOFFSETFROM:-0800
TZOFFSETTO:-0700
TZNAME:PDT
DTSTART:20180311T100000
END:DAYLIGHT
BEGIN:STANDARD
TZOFFSETFROM:-0700
TZOFFSETTO:-0800
TZNAME:PST
DTSTART:20181104T090000
END:STANDARD
END:VTIMEZONE
BEGIN:VEVENT
DTSTART;TZID=America/Los_Angeles:20181020T193000
DTEND;TZID=America/Los_Angeles:20181020T230000
DTSTAMP:20260424T005438
CREATED:20180911T235318Z
LAST-MODIFIED:20180911T235318Z
UID:2330-1540063800-1540076400@thesirenmorrobay.com
SUMMARY:Sure Fire Soul Ensemble w/Tipsy Gypsies & Eva & the Vagabond Tales
DESCRIPTION:Door open at 7:30pm 21+ ( 3 bands) \n(Advance tickets available at BooBoo Records in SLO or online at Ticketfly.com) \nSure Fire Soul Ensemble: \nThe Sure Fire Soul Ensemble is a heavy\, original\, instrumental soul band based in San Diego. They draw influence from themasters of the style from the past and modern day\, including: Quincy Jones\, Jimmy McGriff\, Mulatu Astatke\, Isaac Hayes\, and The Poets of Rhythm.  \nTipsy Gypsies: \nplay a blend of vintage Pop\, Blues\, and Jazz. \nEva and the Vagabond Tales: \nFrom the alleyways of old town Riverside come the sounds of old world folk-pop that broke free from the early ages of music and skipped through time to find it’s way into our modern world. Along the way\, stories were turned into songs\, forming ‘Eva and the Vagabond Tales’. The Vagabond Tales is a multi instrumental music project that is centered around the songwriting of Eva Mikhailovna. The songs combine western\, old folk\, and ragtime into a musical melting pot\, creating an alluring sound that “transcends time and continents.”
URL:https://thesirenmorrobay.com/event/sure-fire-soul-ensemble-w-tipsy-gypsies-eva-the-vagabond-tales/
LOCATION:The Siren\, 900 Main St.\, Morro Bay\, CA\, 93422\, United States
END:VEVENT
END:VCALENDAR