BEGIN:VCALENDAR
VERSION:2.0
PRODID:-//The Siren, Morro Bay, CA - ECPv5.1.6//NONSGML v1.0//EN
CALSCALE:GREGORIAN
METHOD:PUBLISH
X-WR-CALNAME:The Siren, Morro Bay, CA
X-ORIGINAL-URL:https://thesirenmorrobay.com
X-WR-CALDESC:Events for The Siren, Morro Bay, CA
BEGIN:VTIMEZONE
TZID:America/Los_Angeles
BEGIN:DAYLIGHT
TZOFFSETFROM:-0800
TZOFFSETTO:-0700
TZNAME:PDT
DTSTART:20180311T100000
END:DAYLIGHT
BEGIN:STANDARD
TZOFFSETFROM:-0700
TZOFFSETTO:-0800
TZNAME:PST
DTSTART:20181104T090000
END:STANDARD
END:VTIMEZONE
BEGIN:VEVENT
DTSTART;TZID=America/Los_Angeles:20180914T190000
DTEND;TZID=America/Los_Angeles:20180914T230000
DTSTAMP:20260421T225200
CREATED:20180730T225042Z
LAST-MODIFIED:20180807T002402Z
UID:2112-1536951600-1536966000@thesirenmorrobay.com
SUMMARY:Inna Vision w/Arise Roots (Reggae)
DESCRIPTION:Doors open at 7pm. 21+ This is a ticketed show. Presale tix can be purchased at BooBoo Record’s in SLO\, online at Ticketfly.com or at the doors night of the show if not sold out in advance. \nFrom the heart of Los Angeles rises a powerful movement known as Arise Roots. Steadily becoming a household name around the globe\, the group of six veteran musicians united their talents in order to bring a unique and refreshing interpretation of Roots-Reggae with the common goal of preserving its true message. \nFinding inspiration in everything from the streets of LA to situations surrounding everyday life and social injustices throughout the world\, Arise Roots instinctively brings all that attitude and energy directly to the stage. Their fresh and powerful\, yet smooth delivery has earned Arise Roots praise from some of the biggest names in both International and American Reggae. \n  \nA decade after Inna Vision was born on Maui\, the roots reggae band continues to motivate and elevate consciousness by spreading Aloha and positivity to the masses. \nFounded in 2008 by lead singer and bassist Koa Lopes\, now Reggae/Dancehall artist “Inna Vision” has played more than 100 cities across America with friends Tribal Seeds\, Katchafire\, Fortunate Youth\, New Kingston\, Bambu Station and The Steppas.  Inna Vision has shared stages with Damian Marley\, SOJA\, Rebelution\, Collie Buddz\, UB40 and wrapped up a wild 2015 supporting three back-to-back tours with international reggae icon J Boog.  Determination and persistence has brought Inna Vision to stages such as Reggae on the River\, California Roots Festival\, Reggae on the Hills\, Pure Aloha\, One Love Festival and Hawaii’s Mayjah Rayjah.
URL:https://thesirenmorrobay.com/event/arise-roots-winna-vision-reggae/
LOCATION:The Siren\, 900 Main St.\, Morro Bay\, CA\, 93422\, United States
END:VEVENT
END:VCALENDAR