BEGIN:VCALENDAR
VERSION:2.0
PRODID:-//The Siren, Morro Bay, CA - ECPv5.1.6//NONSGML v1.0//EN
CALSCALE:GREGORIAN
METHOD:PUBLISH
X-WR-CALNAME:The Siren, Morro Bay, CA
X-ORIGINAL-URL:https://thesirenmorrobay.com
X-WR-CALDESC:Events for The Siren, Morro Bay, CA
BEGIN:VTIMEZONE
TZID:America/Los_Angeles
BEGIN:DAYLIGHT
TZOFFSETFROM:-0800
TZOFFSETTO:-0700
TZNAME:PDT
DTSTART:20180311T100000
END:DAYLIGHT
BEGIN:STANDARD
TZOFFSETFROM:-0700
TZOFFSETTO:-0800
TZNAME:PST
DTSTART:20181104T090000
END:STANDARD
END:VTIMEZONE
BEGIN:VEVENT
DTSTART;TZID=America/Los_Angeles:20180913T190000
DTEND;TZID=America/Los_Angeles:20180913T230000
DTSTAMP:20260421T212107
CREATED:20180331T013732Z
LAST-MODIFIED:20180911T165043Z
UID:1646-1536865200-1536879600@thesirenmorrobay.com
SUMMARY:The Expendables (Bowl For Two Tour)
DESCRIPTION:Doors open at 7pm! 21+ (The venue will be closed from 6-7pm for venue preparation) \nTripped Up & Bikini Trill will be opening the show.\nAll general admission & VIP Tix available at Boo Boo Records and Ticketfly.com or at the doors night of the show if not sold out in advance! \nThe Expendables enjoyed a laid-back lifestyle growing up in Santa Cruz\, CA; surfing\, skating\, partying\, and playing music were commonplace. Since 1997\, The Expendables have staked their claim in the California surf/rock genre by headlining venues from coast to coast. Blending Reggae\, Punk Rock\, and 80s style dueling guitar solos\, The Expendables have made heads turn and floors shake for years. \nThe band consists of four longtime friends: Geoff Weers (Guitar and Vocals)\, Adam Patterson (Drums and Vocals)\, Raul Bianchi (Lead Guitar) and Ryan DeMars (Bass). The first seven years of their career was fueled with three full-length\, completely independent releases. No Time To Worry (2000)\, Open Container (2001)\, and Gettin’ Filthy (2004)\, would bring in a combined total of over 40\,000 units sold with no physical distribution and no record label. \n \n  \n 
URL:https://thesirenmorrobay.com/event/the-expendables-winna-vision-the-hold-up/
LOCATION:The Siren\, 900 Main St.\, Morro Bay\, CA\, 93422\, United States
END:VEVENT
END:VCALENDAR