BEGIN:VCALENDAR
VERSION:2.0
PRODID:-//The Siren, Morro Bay, CA - ECPv5.1.6//NONSGML v1.0//EN
CALSCALE:GREGORIAN
METHOD:PUBLISH
X-WR-CALNAME:The Siren, Morro Bay, CA
X-ORIGINAL-URL:https://thesirenmorrobay.com
X-WR-CALDESC:Events for The Siren, Morro Bay, CA
BEGIN:VTIMEZONE
TZID:America/Los_Angeles
BEGIN:DAYLIGHT
TZOFFSETFROM:-0800
TZOFFSETTO:-0700
TZNAME:PDT
DTSTART:20180311T100000
END:DAYLIGHT
BEGIN:STANDARD
TZOFFSETFROM:-0700
TZOFFSETTO:-0800
TZNAME:PST
DTSTART:20181104T090000
END:STANDARD
END:VTIMEZONE
BEGIN:VEVENT
DTSTART;TZID=America/Los_Angeles:20180905T190000
DTEND;TZID=America/Los_Angeles:20180905T223000
DTSTAMP:20260421T085343
CREATED:20180615T044234Z
LAST-MODIFIED:20180615T044234Z
UID:1950-1536174000-1536186600@thesirenmorrobay.com
SUMMARY:El Ten Eleven
DESCRIPTION:Doors open at 7pm. 21+ Tickets available in advance at Boo Boo Records and Ticketfly.com \nTen Eleven is a Los Angeles post-rock duo known for combining guitar/bass doubleneck or fretless bass\, with heavy looping\, or vamping\, and the utility of an effects pedal\, over acoustic or electric drumming.
URL:https://thesirenmorrobay.com/event/el-ten-eleven/
LOCATION:The Siren\, 900 Main St.\, Morro Bay\, CA\, 93422\, United States
END:VEVENT
END:VCALENDAR