BEGIN:VCALENDAR
VERSION:2.0
PRODID:-//The Siren, Morro Bay, CA - ECPv5.1.6//NONSGML v1.0//EN
CALSCALE:GREGORIAN
METHOD:PUBLISH
X-WR-CALNAME:The Siren, Morro Bay, CA
X-ORIGINAL-URL:https://thesirenmorrobay.com
X-WR-CALDESC:Events for The Siren, Morro Bay, CA
BEGIN:VTIMEZONE
TZID:America/Los_Angeles
BEGIN:DAYLIGHT
TZOFFSETFROM:-0800
TZOFFSETTO:-0700
TZNAME:PDT
DTSTART:20180311T100000
END:DAYLIGHT
BEGIN:STANDARD
TZOFFSETFROM:-0700
TZOFFSETTO:-0800
TZNAME:PST
DTSTART:20181104T090000
END:STANDARD
END:VTIMEZONE
BEGIN:VEVENT
DTSTART;TZID=America/Los_Angeles:20180904T190000
DTEND;TZID=America/Los_Angeles:20180904T220000
DTSTAMP:20260421T073030
CREATED:20170524T060424Z
LAST-MODIFIED:20180904T233445Z
UID:818-1536087600-1536098400@thesirenmorrobay.com
SUMMARY:Samantha Fish (SOLD OUT)
DESCRIPTION:Tuesday\, Sept 4th\, 21+  Tickets available in advance at Boo Boo Records\, Ticketfly.com or day of the show when doors open at 7pm (if not SOLD OUT in advance) The Siren is a small\, intimate venue with very limited seating. First come first serve. \n  \nSamantha Fish is an impressive blues guitarist who sings with sweet power. For the past several years\, she’s been slowly riffing her way through the blues-revival circuit and has released three strong albums — including one produced by Luther Dickinson — that marked her as one of the genre’s most promising young talents. \nsamanthafish.com \n  \n \n  \n 
URL:https://thesirenmorrobay.com/event/samantha-fish/
LOCATION:The Siren\, 900 Main St.\, Morro Bay\, CA\, 93422\, United States
END:VEVENT
END:VCALENDAR