BEGIN:VCALENDAR
VERSION:2.0
PRODID:-//The Siren, Morro Bay, CA - ECPv5.1.6//NONSGML v1.0//EN
CALSCALE:GREGORIAN
METHOD:PUBLISH
X-WR-CALNAME:The Siren, Morro Bay, CA
X-ORIGINAL-URL:https://thesirenmorrobay.com
X-WR-CALDESC:Events for The Siren, Morro Bay, CA
BEGIN:VTIMEZONE
TZID:America/Los_Angeles
BEGIN:DAYLIGHT
TZOFFSETFROM:-0800
TZOFFSETTO:-0700
TZNAME:PDT
DTSTART:20180311T100000
END:DAYLIGHT
BEGIN:STANDARD
TZOFFSETFROM:-0700
TZOFFSETTO:-0800
TZNAME:PST
DTSTART:20181104T090000
END:STANDARD
END:VTIMEZONE
BEGIN:VEVENT
DTSTART;TZID=America/Los_Angeles:20180903T190000
DTEND;TZID=America/Los_Angeles:20180903T220000
DTSTAMP:20260421T060852
CREATED:20180812T210713Z
LAST-MODIFIED:20180812T210713Z
UID:2194-1536001200-1536012000@thesirenmorrobay.com
SUMMARY:Comedy Night with Rio Hillman and Guests
DESCRIPTION:21+ Doors open at 7pm\, general admission\, seating first come first served. Presale price tix available in advance at BooBoo’s and Ticketfly.com\, or at the doors night of the show. \nA Night Of Stand up Comedy Produced in Collaboration with Central Coast Comedy Theater \nAfter a day on the beach come catch some live comedy! \nwith performances by \nHost: Sabrina Pratt \nSpecial Guest: Stormy Silva \nSpecial Guest:  TBA\n\nHeadlining: Rio Hillman
URL:https://thesirenmorrobay.com/event/comedy-night-with-rio-hillman-and-guests/
LOCATION:The Siren\, 900 Main St.\, Morro Bay\, CA\, 93422\, United States
END:VEVENT
END:VCALENDAR