BEGIN:VCALENDAR
VERSION:2.0
PRODID:-//The Siren, Morro Bay, CA - ECPv5.1.6//NONSGML v1.0//EN
CALSCALE:GREGORIAN
METHOD:PUBLISH
X-WR-CALNAME:The Siren, Morro Bay, CA
X-ORIGINAL-URL:https://thesirenmorrobay.com
X-WR-CALDESC:Events for The Siren, Morro Bay, CA
BEGIN:VTIMEZONE
TZID:America/Los_Angeles
BEGIN:DAYLIGHT
TZOFFSETFROM:-0800
TZOFFSETTO:-0700
TZNAME:PDT
DTSTART:20180311T100000
END:DAYLIGHT
BEGIN:STANDARD
TZOFFSETFROM:-0700
TZOFFSETTO:-0800
TZNAME:PST
DTSTART:20181104T090000
END:STANDARD
END:VTIMEZONE
BEGIN:VEVENT
DTSTART;TZID=America/Los_Angeles:20180811T193000
DTEND;TZID=America/Los_Angeles:20180811T233000
DTSTAMP:20260421T061310
CREATED:20180626T211540Z
LAST-MODIFIED:20180626T211540Z
UID:1994-1534015800-1534030200@thesirenmorrobay.com
SUMMARY:Wordsauce Album Release Party w/Mannequins By Day
DESCRIPTION:Doors open at 7:30pm. 21+ There is a cover charge for this event and presale tix can be purchased at BooBoo Record and ticketfly.com. \nSupport the hard work your local musicians put into recording a full length album! Proceeds go to offset the cost of making the record.
URL:https://thesirenmorrobay.com/event/wordsauce-album-release-party-wmannequins-by-day/
LOCATION:The Siren\, 900 Main St.\, Morro Bay\, CA\, 93422\, United States
END:VEVENT
END:VCALENDAR