BEGIN:VCALENDAR
VERSION:2.0
PRODID:-//The Siren, Morro Bay, CA - ECPv5.1.6//NONSGML v1.0//EN
CALSCALE:GREGORIAN
METHOD:PUBLISH
X-WR-CALNAME:The Siren, Morro Bay, CA
X-ORIGINAL-URL:https://thesirenmorrobay.com
X-WR-CALDESC:Events for The Siren, Morro Bay, CA
BEGIN:VTIMEZONE
TZID:America/Los_Angeles
BEGIN:DAYLIGHT
TZOFFSETFROM:-0800
TZOFFSETTO:-0700
TZNAME:PDT
DTSTART:20190310T100000
END:DAYLIGHT
BEGIN:STANDARD
TZOFFSETFROM:-0700
TZOFFSETTO:-0800
TZNAME:PST
DTSTART:20191103T090000
END:STANDARD
END:VTIMEZONE
BEGIN:VEVENT
DTSTART;TZID=America/Los_Angeles:20190425T203000
DTEND;TZID=America/Los_Angeles:20190425T223000
DTSTAMP:20260421T150026
CREATED:20190328T023912Z
LAST-MODIFIED:20190425T173510Z
UID:3111-1556224200-1556231400@thesirenmorrobay.com
SUMMARY:Watchermoon (Cancelled)
DESCRIPTION:Due to travel complications\, the band had to cancel this show at the last minute! \n\nWatcher Moon blends a unique style of Psychedelic\, Funk\, Rock\, Jazz\, Blues and Reggae into a unique “Alternative Jam Band” style of music. With up to three hour shows filled with original compositions\, Watcher Moon performs virtuosic improvisation sections taking audiences on a musical voyage. Watcher Moon is inspired by bands such as: Yes\, Rush\, Medeski Martin and Wood\, The Doors\, Grateful Dead\, Jimi Hendrix\, Pink Floyd\, 311\, Phish\, Frank Zappa\, King Crimson\, Tool\, STI\, Red Hot Chili Peppers\,Traffic\, Rush\, Led Zeppelin\, Alice N Chains\, Les Claypool\, Primus\, Metallica\, Wes Montgomery\, Steel Pulse\, Bob Marley\, Aerosmith\, Rage Against The Machine and Sound Garden. 
URL:https://thesirenmorrobay.com/event/watchermoon/
LOCATION:The Siren\, 900 Main St.\, Morro Bay\, CA\, 93422\, United States
END:VEVENT
END:VCALENDAR