BEGIN:VCALENDAR
VERSION:2.0
PRODID:-//The Siren, Morro Bay, CA - ECPv5.1.6//NONSGML v1.0//EN
CALSCALE:GREGORIAN
METHOD:PUBLISH
X-WR-CALNAME:The Siren, Morro Bay, CA
X-ORIGINAL-URL:https://thesirenmorrobay.com
X-WR-CALDESC:Events for The Siren, Morro Bay, CA
BEGIN:VTIMEZONE
TZID:America/Los_Angeles
BEGIN:DAYLIGHT
TZOFFSETFROM:-0800
TZOFFSETTO:-0700
TZNAME:PDT
DTSTART:20190310T100000
END:DAYLIGHT
BEGIN:STANDARD
TZOFFSETFROM:-0700
TZOFFSETTO:-0800
TZNAME:PST
DTSTART:20191103T090000
END:STANDARD
END:VTIMEZONE
BEGIN:VEVENT
DTSTART;TZID=America/Los_Angeles:20190523T203000
DTEND;TZID=America/Los_Angeles:20190523T230000
DTSTAMP:20260421T181833
CREATED:20190411T234303Z
LAST-MODIFIED:20190411T234303Z
UID:3226-1558643400-1558652400@thesirenmorrobay.com
SUMMARY:Ward w/Four Day Beard
DESCRIPTION:FREE show\, 21+ \nSince quitting his executive job in New York in 2016 and moving to Los Angeles to pursue music full time\, Ward and his band has developed a fanbase of tens of thousands online\, played dozens of live shows\, and released 20 singles and videos. On the stage and in the studio\, Ward and his band deliver a high-energy blend of modern rock\, dance rock\, shoegaze and classic post-punk\, creating the perfect platform for Ward’s emotional vocals to connect with his audience. Ward’s recent sold out show in Mexico City highlights a rapidly growing international presence. \nAs well\, previously released singles “Crush”\, “Soothe The Soul”\, and “Stand Me” have garnered over 200k streams and plays\, and have earned praise from Buzzbands\, Groundsounds\, Audio Fuzz\, We Love That Sound\, Atwood Magazine\, Line of Best Fit\, Imperfect Fifth\, Northern Transmissions and more. \n\nBased out of SLO\, Four Day Beard is a brooding contemplation of feelings of alienation\, heartbreak and dreams of escaping the problems of everyday life. Four Day Beard’s introspective and sometimes melancholy lyrics weave through dynamic layers of Americana\, Blues and Experimental elements resulting in artfully textured headphone friendly soundscapes.
URL:https://thesirenmorrobay.com/event/ward-w-four-day-beard/
LOCATION:The Siren\, 900 Main St.\, Morro Bay\, CA\, 93422\, United States
END:VEVENT
END:VCALENDAR