BEGIN:VCALENDAR
VERSION:2.0
PRODID:-//The Siren, Morro Bay, CA - ECPv5.1.6//NONSGML v1.0//EN
CALSCALE:GREGORIAN
METHOD:PUBLISH
X-WR-CALNAME:The Siren, Morro Bay, CA
X-ORIGINAL-URL:https://thesirenmorrobay.com
X-WR-CALDESC:Events for The Siren, Morro Bay, CA
BEGIN:VTIMEZONE
TZID:America/Los_Angeles
BEGIN:DAYLIGHT
TZOFFSETFROM:-0800
TZOFFSETTO:-0700
TZNAME:PDT
DTSTART:20250309T100000
END:DAYLIGHT
BEGIN:STANDARD
TZOFFSETFROM:-0700
TZOFFSETTO:-0800
TZNAME:PST
DTSTART:20251102T090000
END:STANDARD
END:VTIMEZONE
BEGIN:VEVENT
DTSTART;TZID=America/Los_Angeles:20251207T190000
DTEND;TZID=America/Los_Angeles:20251207T210000
DTSTAMP:20260420T064300
CREATED:20251023T235418Z
LAST-MODIFIED:20251202T012149Z
UID:8543-1765134000-1765141200@thesirenmorrobay.com
SUMMARY:Two Runner w/Miss Leo
DESCRIPTION:Two Runner is songwriter Paige Anderson and fiddler Emilie Rose from the hills of Northern California. The folk duo emits a ray of unprocessed realness through their well-crafted songs and instrumental skills. Both growing up in a rural mountain town\, best friends Paige Anderson and Emilie Rose learned folk music and performance from a young age\, and now tour nationally as Two Runner. Through the mediums of clawhammer banjo\, vocal harmonies\, oldtime fiddle\, and flatpicking guitar\, Two Runner has a sound that is strongly rooted in American folk music combined with Paige’s wistful songwriting. Two Runner self-released their debut album\, Modern Cowboy\, in the spring of 2023 and have shared the stage with Sierra Ferrell\, Watchhouse\, Jesse Daniel\, Nick Shoulders\, Charlie Parr and many more. \nSongwriter Paige Anderson grew up touring in her family bluegrass band\, Anderson Family Bluegrass\, starting at the age of 9. The family of six traveled for about 12 years as Anderson Family Bluegrass and later the sibling band\, The Fearless Kin. Paige wrote her first song with Chuck Ragan at 15\, which kickstarted her love for songwriting.Transitioning into diverse musical roles\, including a stint as bassist for Family of the Year in 2018\, Paige has continually evolved her craft\, charting new artistic directions for herself and Two Runner. \nFiddler Emilie Rose was raised on Celtic fiddle and fiddle camps starting at the age of 9. In her early years\, she led Celtic trio\, The String Sisters\, who played together for 10 years in the Sierra Nevada Foothills. Emilie then went on to study at Berklee College of Music and was mentored by the greats such as Bruce Molsky\, Natalie Haas\, and Darol Anger\, where she graduated in 2020. She moved back to Northern California and later in the year met Paige Anderson for the first time\, as neighbors and joined Two Runner. \nTogether\, the duo has been touring for over 2 years solidly\, forging their sound and path through festivals and venues\, winding highways and friendship. It’s undeniable that Two Runner brings a rich mix to the folk music world\, with their harmonies\, banjo pickin’\, and dirt kickin’ duo.
URL:https://thesirenmorrobay.com/event/two-runner/
LOCATION:The Siren\, 900 Main St.\, Morro Bay\, CA\, 93422\, United States
ATTACH;FMTTYPE=image/jpeg:https://thesirenmorrobay.com/wp-content/uploads/2025/10/TRsiren120725web-1.jpg
END:VEVENT
END:VCALENDAR