BEGIN:VCALENDAR
VERSION:2.0
PRODID:-//The Siren, Morro Bay, CA - ECPv5.1.6//NONSGML v1.0//EN
CALSCALE:GREGORIAN
METHOD:PUBLISH
X-WR-CALNAME:The Siren, Morro Bay, CA
X-ORIGINAL-URL:https://thesirenmorrobay.com
X-WR-CALDESC:Events for The Siren, Morro Bay, CA
BEGIN:VTIMEZONE
TZID:America/Los_Angeles
BEGIN:DAYLIGHT
TZOFFSETFROM:-0800
TZOFFSETTO:-0700
TZNAME:PDT
DTSTART:20190310T100000
END:DAYLIGHT
BEGIN:STANDARD
TZOFFSETFROM:-0700
TZOFFSETTO:-0800
TZNAME:PST
DTSTART:20191103T090000
END:STANDARD
END:VTIMEZONE
BEGIN:VEVENT
DTSTART;TZID=America/Los_Angeles:20190601T200000
DTEND;TZID=America/Los_Angeles:20190601T230000
DTSTAMP:20260421T164832
CREATED:20190328T042739Z
LAST-MODIFIED:20190529T200900Z
UID:3128-1559419200-1559430000@thesirenmorrobay.com
SUMMARY:Traditional SKA w/The Steady 45's
DESCRIPTION:Doors open at 8pm\, 21+ Seating and tables available on a first come\, first serve basis. Tickets available in advance at Boo Boo Records or online by clicking HERE. \n\nVintage rocksteady and traditional ska music from a 7-piece band of hooligans from LA. \nThe band is a tribute to old school Jamaican ska masters from the Skatalites\, Prince Buster\, Desmond Dekker\, Bob Marley\, Lee Scratch Perry\, and more. The repertoire has a mix of some classics and some original selections. \n  \nLocal SKA/Rocksteady/Roots DJ Chad Whitworth of Roots Relic opens the show spinning all your favorite and underground SKA tunes!
URL:https://thesirenmorrobay.com/event/traditional-ska-w-the-steady-45s-the-upside/
LOCATION:The Siren\, 900 Main St.\, Morro Bay\, CA\, 93422\, United States
END:VEVENT
END:VCALENDAR