BEGIN:VCALENDAR
VERSION:2.0
PRODID:-//The Siren, Morro Bay, CA - ECPv5.1.6//NONSGML v1.0//EN
CALSCALE:GREGORIAN
METHOD:PUBLISH
X-WR-CALNAME:The Siren, Morro Bay, CA
X-ORIGINAL-URL:https://thesirenmorrobay.com
X-WR-CALDESC:Events for The Siren, Morro Bay, CA
BEGIN:VTIMEZONE
TZID:America/Los_Angeles
BEGIN:DAYLIGHT
TZOFFSETFROM:-0800
TZOFFSETTO:-0700
TZNAME:PDT
DTSTART:20190310T100000
END:DAYLIGHT
BEGIN:STANDARD
TZOFFSETFROM:-0700
TZOFFSETTO:-0800
TZNAME:PST
DTSTART:20191103T090000
END:STANDARD
END:VTIMEZONE
BEGIN:VEVENT
DTSTART;TZID=America/Los_Angeles:20190214T183000
DTEND;TZID=America/Los_Angeles:20190214T220000
DTSTAMP:20260421T115707
CREATED:20181210T030127Z
LAST-MODIFIED:20181210T030127Z
UID:2678-1550169000-1550181600@thesirenmorrobay.com
SUMMARY:The Siren Valentine's Day Spectacular Feat. BiG SuRCuS & Cabaret Menagerie
DESCRIPTION:Advance ticket available by clicking HERE. \nDoors open 6:30pm. 21+ only \n7-8pm: Circus Sideshow and surprises\nSHOW: 8-10pm (arrive early as seating and tables are limited depending on ticket sales)\nFood from the Siren kitchen and Drinks available for purchase a the bar. \nThe Siren Morro Bay presents . . .\n“The Siren Valentine’s Day Spectacular”\nfeaturing:\nCabaret Menagerie & BiG SuRCuS\na musical\, magical\, variety show for Lovers and Loners.\nPerformers from across the globe & the local coast will engage you in a flirty\, fun-filled evening\nincluding performances by a Live Mermaid\, Botticelli’s Venus in Burlesque and a Chorus of Dancing Beauties!\nDress to impress in vintage/cocktail attire as we step back in time to an era of glamour & elegance! \n \n 
URL:https://thesirenmorrobay.com/event/the-siren-valentines-day-spectacular-feat-big-surcus-cabaret-menagerie/
LOCATION:The Siren\, 900 Main St.\, Morro Bay\, CA\, 93422\, United States
END:VEVENT
END:VCALENDAR