BEGIN:VCALENDAR
VERSION:2.0
PRODID:-//The Siren, Morro Bay, CA - ECPv5.1.6//NONSGML v1.0//EN
CALSCALE:GREGORIAN
METHOD:PUBLISH
X-WR-CALNAME:The Siren, Morro Bay, CA
X-ORIGINAL-URL:https://thesirenmorrobay.com
X-WR-CALDESC:Events for The Siren, Morro Bay, CA
BEGIN:VTIMEZONE
TZID:America/Los_Angeles
BEGIN:DAYLIGHT
TZOFFSETFROM:-0800
TZOFFSETTO:-0700
TZNAME:PDT
DTSTART:20180311T100000
END:DAYLIGHT
BEGIN:STANDARD
TZOFFSETFROM:-0700
TZOFFSETTO:-0800
TZNAME:PST
DTSTART:20181104T090000
END:STANDARD
END:VTIMEZONE
BEGIN:VEVENT
DTSTART;TZID=America/Los_Angeles:20181103T193000
DTEND;TZID=America/Los_Angeles:20181103T230000
DTSTAMP:20260421T061820
CREATED:20180814T021920Z
LAST-MODIFIED:20181104T004344Z
UID:2202-1541273400-1541286000@thesirenmorrobay.com
SUMMARY:The Rap Contest (Cancelled!!)
DESCRIPTION:Unfortunately this event ha been cancelled. But we will have live music for FREE tarting at 9pm! \nThe Rap Contest is one of the most exciting live hip-hop shows in the country!  The Rap Contest is an original song competition series started in 2010 by Sellassie as a platform for independent hip-hop artists to connect with new audiences.  The Rap Contest is the place where raps come to life on stage from some of the coolest artists that you just haven’t heard about yet.  The Rap Contest has visited 20 cities from coast to coast including Los Angeles\, New York\, San Francisco\, Berkeley\, Chicago\, Washington D.C.\, Atlanta\, Austin\, Houston\, Orlando & Seattle. \nThe Rap Contest is fast paced\, exciting\, entertaining and most of all FUN!!!   The Rap Contest is innovative\, authentic and is consistently packing clubs for new music. The Rap Contest is a single elimination contest\, where local artists compete for a cash prize of $1000 at each show.   The Rap Contest has produced 125 successful shows in its first seven years and partnered with several local and regional promo companies\, radio stations\, studios and organizations. The Rap Contest has booked over 1500 talented and emerging hip hop artists from across the country that have performed in front of industry professional and celebrity judges.  The Rap Contest is independent hip-hop\, it invests in artists on the rise and respects and contributes to the culture of hip-hop. \nAbout Sellassie: \nsellassiefrisco.com \nhttps://en.m.wikipedia.org/wiki/Frisco_Five \nThe Rap Contest creator\, host and producer Sellassie\, is the world’s first higherground hip-hop artist; he is a social justice activist\, entrepreneur\, event producer and pioneer.   He has carved his niche as a leading progressive voice in hip-hop and as a force in bringing independent artists together.  Sellassie is grounded and utilizes his music and events as a vehicle for social change and inspiration\, and he regularly states that he “wants to be in the history books\, not the pop charts.” \n  \n  \n 
URL:https://thesirenmorrobay.com/event/the-rap-contest-1000-prize/
LOCATION:The Siren\, 900 Main St.\, Morro Bay\, CA\, 93422\, United States
END:VEVENT
END:VCALENDAR