BEGIN:VCALENDAR
VERSION:2.0
PRODID:-//The Siren, Morro Bay, CA - ECPv5.1.6//NONSGML v1.0//EN
CALSCALE:GREGORIAN
METHOD:PUBLISH
X-WR-CALNAME:The Siren, Morro Bay, CA
X-ORIGINAL-URL:https://thesirenmorrobay.com
X-WR-CALDESC:Events for The Siren, Morro Bay, CA
BEGIN:VTIMEZONE
TZID:America/Los_Angeles
BEGIN:DAYLIGHT
TZOFFSETFROM:-0800
TZOFFSETTO:-0700
TZNAME:PDT
DTSTART:20240310T100000
END:DAYLIGHT
BEGIN:STANDARD
TZOFFSETFROM:-0700
TZOFFSETTO:-0800
TZNAME:PST
DTSTART:20241103T090000
END:STANDARD
END:VTIMEZONE
BEGIN:VEVENT
DTSTART;TZID=America/Los_Angeles:20241109T200000
DTEND;TZID=America/Los_Angeles:20241109T223000
DTSTAMP:20260421T022155
CREATED:20221130T232713Z
LAST-MODIFIED:20240831T023615Z
UID:6161-1731182400-1731191400@thesirenmorrobay.com
SUMMARY:Gen X Rockfest - Pearl Jam/Foo Fighters Double Tribute Night! The Fathfull with Special Guests Faux Fighters
DESCRIPTION:Pearl Jam is more than a band… More than a collection of generation defining rock anthems\, and more than decades of epic concerts and sold out arenas.  More than all of this\, Pearl Jam is a community – a place for people to come together\, find common cause\, and join in celebration.\nThis community is called “The Faithfull”\nOur goal is to bring that community together by recreating the music\, the energy\, and the emotional intensity of a Pearl Jam show.  In addition to all the hits\, we include b-sides\, deep cuts\, and songs from all eleven studio albums – and like Pearl Jam\, we never play the same set list twice.  The Faithfull delivers a unique experience at every show\, and the absolute closest thing possible to an actual Pearl Jam concert.\nBut to do that\, we need you – The Faithfull – to join us.\n\nFormed in 2012\, Faux Fighters were born out of singer Chelsea Scott’s uncanny resemblance to Dave Grohl\, and the band is now very much in demand as one of the top Foo Fighter tribute acts in the country. \nBased in San Diego\, Faux Fighters have played to packed out shows across California\, Arizona\, Nevada\, Missouri and Texas including topping the bill at The House of Blues and headlining at the prestigious Orange County Fair. \nThe band is comprised of talented and seasoned musicians whose combined stage experience provides a strong musical backdrop that lifts Faux Fighters head and shoulders above other tribute bands. The combination of Chelsea’s “Dave Grohliness”\, his ability to cover Dave’s vocal range and the energy of the performance ensures that the band really captures the essence of Foo Fighters\, producing a dynamic and engaging stage show. \nThe band loves to play and delights in entertaining crowds with the songs that gets the audience dancing and rocking throughout their show. Faux Fighters are considered one of the premier tribute acts in California garnering praise from fans and journalists alike. \n“Faux Fighters’ singer is so close to being Dave Grohl. The hair\, the sweat bands…and he has them both down perfectly.” -OC Weekly July 2016 \n“…they sound good” From The Grapevine June 2015 \n“Damn these guys ROCK!” Marty @MartyInYourEar Rock 105.3FM San Diego \n 
URL:https://thesirenmorrobay.com/event/the-faithfull-w-black-daze-a-double-tribute-to-pearl-jam-and-soundgarden/
LOCATION:The Siren\, 900 Main St.\, Morro Bay\, CA\, 93422\, United States
ATTACH;FMTTYPE=image/jpeg:https://thesirenmorrobay.com/wp-content/uploads/2022/11/Gen-X-Rock-Fest_2024_The-Siren-1.jpg
END:VEVENT
END:VCALENDAR