BEGIN:VCALENDAR
VERSION:2.0
PRODID:-//The Siren, Morro Bay, CA - ECPv5.1.6//NONSGML v1.0//EN
CALSCALE:GREGORIAN
METHOD:PUBLISH
X-WR-CALNAME:The Siren, Morro Bay, CA
X-ORIGINAL-URL:https://thesirenmorrobay.com
X-WR-CALDESC:Events for The Siren, Morro Bay, CA
BEGIN:VTIMEZONE
TZID:America/Los_Angeles
BEGIN:DAYLIGHT
TZOFFSETFROM:-0800
TZOFFSETTO:-0700
TZNAME:PDT
DTSTART:20240310T100000
END:DAYLIGHT
BEGIN:STANDARD
TZOFFSETFROM:-0700
TZOFFSETTO:-0800
TZNAME:PST
DTSTART:20241103T090000
END:STANDARD
END:VTIMEZONE
BEGIN:VEVENT
DTSTART;TZID=America/Los_Angeles:20240824T140000
DTEND;TZID=America/Los_Angeles:20240824T170000
DTSTAMP:20260421T063741
CREATED:20240716T023515Z
LAST-MODIFIED:20240716T023515Z
UID:7558-1724508000-1724518800@thesirenmorrobay.com
SUMMARY:The Dusty Souls
DESCRIPTION:Originating from the small town of Occidental in Northern California\, The Dusty Soul’s bring a taste of the 70’s rock and roll movement with hints of alternative\, psychedelic and indie nuance. Now based in San Luis Obispo\, this upcoming band\, influenced by legends such as Led Zeppelin and Pink Floyd look to take over town one gig at a time.
URL:https://thesirenmorrobay.com/event/the-dusty-souls/
LOCATION:The Siren\, 900 Main St.\, Morro Bay\, CA\, 93422\, United States
ATTACH;FMTTYPE=image/jpeg:https://thesirenmorrobay.com/wp-content/uploads/2024/07/Peace-Of-Mind-4-scaled.jpg
END:VEVENT
END:VCALENDAR