BEGIN:VCALENDAR
VERSION:2.0
PRODID:-//The Siren, Morro Bay, CA - ECPv5.1.6//NONSGML v1.0//EN
CALSCALE:GREGORIAN
METHOD:PUBLISH
X-WR-CALNAME:The Siren, Morro Bay, CA
X-ORIGINAL-URL:https://thesirenmorrobay.com
X-WR-CALDESC:Events for The Siren, Morro Bay, CA
BEGIN:VTIMEZONE
TZID:America/Los_Angeles
BEGIN:DAYLIGHT
TZOFFSETFROM:-0800
TZOFFSETTO:-0700
TZNAME:PDT
DTSTART:20250309T100000
END:DAYLIGHT
BEGIN:STANDARD
TZOFFSETFROM:-0700
TZOFFSETTO:-0800
TZNAME:PST
DTSTART:20251102T090000
END:STANDARD
END:VTIMEZONE
BEGIN:VEVENT
DTSTART;TZID=America/Los_Angeles:20251231T193000
DTEND;TZID=America/Los_Angeles:20251231T235900
DTSTAMP:20260422T011930
CREATED:20180104T052807Z
LAST-MODIFIED:20251201T233417Z
UID:1309-1767209400-1767225540@thesirenmorrobay.com
SUMMARY:The Cheeseballs New Year's Eve Party (San Francisco's Ultimate Party Band)
DESCRIPTION:Doors Open at 7:30pm- 21+ \nYour admission ticket DOES include a complimentary appetizer bar served from 8-10:30pm. Expect a varitery of both hot and cold finger foods and tasty snacks to keep you energized for the dance floor. You also get to toast a complimentary glass of California Sparking Wine (I.e. Champagne) with the bartenders at midnight. \nAll tickets for Siren events are general admission unless otherwise noted. The Siren is a small\, intimate bar/club style venue and is NOT a seated room. There are always a few seats available off to the side of the dance floor and in the back\, but not many and they are first come first serve after doors open. This is a dance party! \nWe will have only 6 avaialble tables to reserve in the back of the room for $125 each (It does not include the admission tickets or table service) Email monte@thesirenmorrobay.com for info asap before they’re gone! \nDANCE ALL NIGHT.\nGet ready to dance 2025 into the rear view mirror and welcome 2026 with one of California’s best party bands\, The Cheeseballs! \nThe Cheeseballs are one of the best San Francisco based high-energy dance bands. From 60s Motown classics to 80s new wave\, from ABBA to Bruno Mars\, their repertoire is soulful and funky\, and they are constantly adding new top hits to their repertoire. \nBetter than a cruiseship party\, hotter than a vegas revue\, the Cheeseballs will keep you guessing as the set list brings hit after hit from over 6 decades of bangers! With thousands of successful shows under their belt\, TCB have delighted fans nationwide\, as well as in Canada\, Mexico\, and Costa Rica.\, at corporate events\, public events\, private parties\, weddings and more. Dress to impress and bring 2026 in with style and a little bit of sweat. \n\nThe Cheeseballs are a San Francisco based high energy dance band with thousands of successful shows under their belt. Soulful\, funky and at the top of the list of go-to bands for special events of any nature. TCB has delighted tens of thousands of fans across the country. This band comes from an angle of funk\, soul and R&B\, and are constantly adding new top hits to their list. From 60′s Motown classics to 80′s new wave\, and all the rock n’ roll Favorites. From ABBA “Dancing Queen” to Lady Gaga “Just Dance” and of course Etta James “At Last”.
URL:https://thesirenmorrobay.com/event/the-cheeseballs-2/
LOCATION:The Siren\, 900 Main St.\, Morro Bay\, CA\, 93422\, United States
ATTACH;FMTTYPE=image/png:https://thesirenmorrobay.com/wp-content/uploads/2018/01/The-Cheesballs-11x14_NYE.png
END:VEVENT
END:VCALENDAR