BEGIN:VCALENDAR
VERSION:2.0
PRODID:-//The Siren, Morro Bay, CA - ECPv5.1.6//NONSGML v1.0//EN
CALSCALE:GREGORIAN
METHOD:PUBLISH
X-WR-CALNAME:The Siren, Morro Bay, CA
X-ORIGINAL-URL:https://thesirenmorrobay.com
X-WR-CALDESC:Events for The Siren, Morro Bay, CA
BEGIN:VTIMEZONE
TZID:America/Los_Angeles
BEGIN:DAYLIGHT
TZOFFSETFROM:-0800
TZOFFSETTO:-0700
TZNAME:PDT
DTSTART:20240310T100000
END:DAYLIGHT
BEGIN:STANDARD
TZOFFSETFROM:-0700
TZOFFSETTO:-0800
TZNAME:PST
DTSTART:20241103T090000
END:STANDARD
END:VTIMEZONE
BEGIN:VEVENT
DTSTART;TZID=America/Los_Angeles:20240614T193000
DTEND;TZID=America/Los_Angeles:20240614T223000
DTSTAMP:20260421T093632
CREATED:20240521T032957Z
LAST-MODIFIED:20240521T032957Z
UID:7406-1718393400-1718404200@thesirenmorrobay.com
SUMMARY:Tay By The Bay - A Tribute To Taylor Swift featuring Cassie B
DESCRIPTION: LIVE BAND JOURNEY THROUGH THE ENCHANTED ERAS OF TAYLOR SWIFT\n\nWith her distinct style\, legendary catalog of music\, and a stage presence like no other\, it’s easy to see why Taylor Swift is one of the most successful and influential artists of the 21st century. This tribute\, created by Cassie B and developed at UC San Diego features all of Taylor’s top hits including; ‘Shake It Off’\, ‘Blank Space’\, ‘Love Story’\, and many more. Join Cassie B in her wildest dream\, celebrating the music of Taylor Swift.\n\nSing. Dance. Dream.
URL:https://thesirenmorrobay.com/event/tay-by-the-bay-a-tribute-to-taylor-swift-featuring-cassie-b/
LOCATION:The Siren\, 900 Main St.\, Morro Bay\, CA\, 93422\, United States
ATTACH;FMTTYPE=image/jpeg:https://thesirenmorrobay.com/wp-content/uploads/2024/05/JL-13-of-155.jpg
END:VEVENT
END:VCALENDAR