BEGIN:VCALENDAR
VERSION:2.0
PRODID:-//The Siren, Morro Bay, CA - ECPv5.1.6//NONSGML v1.0//EN
CALSCALE:GREGORIAN
METHOD:PUBLISH
X-WR-CALNAME:The Siren, Morro Bay, CA
X-ORIGINAL-URL:https://thesirenmorrobay.com
X-WR-CALDESC:Events for The Siren, Morro Bay, CA
BEGIN:VTIMEZONE
TZID:America/Los_Angeles
BEGIN:DAYLIGHT
TZOFFSETFROM:-0800
TZOFFSETTO:-0700
TZNAME:PDT
DTSTART:20190310T100000
END:DAYLIGHT
BEGIN:STANDARD
TZOFFSETFROM:-0700
TZOFFSETTO:-0800
TZNAME:PST
DTSTART:20191103T090000
END:STANDARD
END:VTIMEZONE
BEGIN:VEVENT
DTSTART;TZID=America/Los_Angeles:20190315T193000
DTEND;TZID=America/Los_Angeles:20190315T230000
DTSTAMP:20260421T132045
CREATED:20190108T011406Z
LAST-MODIFIED:20190108T012405Z
UID:2817-1552678200-1552690800@thesirenmorrobay.com
SUMMARY:Synrgy\, True Zion & Why Worry?
DESCRIPTION:Doors open at 7:30pm\, 21+ Tickets available at BooBoo Record in SLO or online at Ticketfly.com! \n\n   SYNRGY is a Soul Reggae Rock Group currently based out of Rosarito Mexico\, known for high-energy live performances\, consistently catchy tunes\, and their tour heavy lifestyle over the past ten years. They’ve toured relentlessly all over the Western  United States\, having played hundreds of shows in over 19 states. They have two Midwest tours\, a Hawaii tour\, and multiple West Coast tours under their belt.They have performed on the stages of renowned World Music Festivals such as: California Roots (2017)\, Reggae on the River (2012)\, Reggae on the Mountain (2016/17)\, Mammoth Reggae Festival (2016)\, Seattle Hempfest (2012)\, Northwest World Reggae Festival (2012)\, and many more.     They have played along side Internationally touring bands such as SOJA\, Rebelution\, Steel Pulse\, Katchafire\, The Slackers\, The Expanders\, HIRIE\, Through The Roots\, Mike Love\, and countless other artists. \nLocal reggae standouts True Zion are main support and opening the show is Why Worry Music! \n 
URL:https://thesirenmorrobay.com/event/synrgy-true-zion-why-worry/
LOCATION:The Siren\, 900 Main St.\, Morro Bay\, CA\, 93422\, United States
END:VEVENT
END:VCALENDAR