BEGIN:VCALENDAR
VERSION:2.0
PRODID:-//The Siren, Morro Bay, CA - ECPv5.1.6//NONSGML v1.0//EN
CALSCALE:GREGORIAN
METHOD:PUBLISH
X-WR-CALNAME:The Siren, Morro Bay, CA
X-ORIGINAL-URL:https://thesirenmorrobay.com
X-WR-CALDESC:Events for The Siren, Morro Bay, CA
BEGIN:VTIMEZONE
TZID:America/Los_Angeles
BEGIN:DAYLIGHT
TZOFFSETFROM:-0800
TZOFFSETTO:-0700
TZNAME:PDT
DTSTART:20190310T100000
END:DAYLIGHT
BEGIN:STANDARD
TZOFFSETFROM:-0700
TZOFFSETTO:-0800
TZNAME:PST
DTSTART:20191103T090000
END:STANDARD
END:VTIMEZONE
BEGIN:VEVENT
DTSTART;TZID=America/Los_Angeles:20190413T200000
DTEND;TZID=America/Los_Angeles:20190413T223000
DTSTAMP:20260421T150517
CREATED:20190221T040552Z
LAST-MODIFIED:20190221T040552Z
UID:2976-1555185600-1555194600@thesirenmorrobay.com
SUMMARY:Surf Night with The Reefriders & The Neptunes
DESCRIPTION:Doors open at 8pm 21+  **(The venue will be closed from 7pm to 8pm to complete soundcheck and prepare the venue for the show) Doors open at 8pm sharp. Advance hard copy tickets are available in person at Boo Boo Record Store in SLO. Print at home/mobile/will call tickets can be purchased online at Ticketfly.com by clicking: HERE. All tickets are general admission unless otherwise stated. The Siren is a small\, intimate club style venue and seating is extremely limited on a first come first served basis after doors open and is dictated by estimated show sales. IT IS NOT A SEATED VENUE. Food is still served during concerts. We appreciate you supporting live music at the Siren! \n\nThe Reefriders – a California based three-piece instrumental guitar band serving up quite a collection of surf music including hits from the classic early 60s surf bands to the red hot scorching sounds of Dick Dale…..it’s a joy ride through time with wild music as popularized in the movie Pulp Fiction…..where music is fun and “really cool”. \n\nThe Neptunes are an instrumental surf band. Who don’t surf. But like cool\, spooky music like you would hear on a Quentin Tarantino sound track.
URL:https://thesirenmorrobay.com/event/surf-night-with-the-reefriders-the-neptunes/
LOCATION:The Siren\, 900 Main St.\, Morro Bay\, CA\, 93422\, United States
END:VEVENT
END:VCALENDAR