BEGIN:VCALENDAR
VERSION:2.0
PRODID:-//The Siren, Morro Bay, CA - ECPv5.1.6//NONSGML v1.0//EN
CALSCALE:GREGORIAN
METHOD:PUBLISH
X-WR-CALNAME:The Siren, Morro Bay, CA
X-ORIGINAL-URL:https://thesirenmorrobay.com
X-WR-CALDESC:Events for The Siren, Morro Bay, CA
BEGIN:VTIMEZONE
TZID:America/Los_Angeles
BEGIN:DAYLIGHT
TZOFFSETFROM:-0800
TZOFFSETTO:-0700
TZNAME:PDT
DTSTART:20240310T100000
END:DAYLIGHT
BEGIN:STANDARD
TZOFFSETFROM:-0700
TZOFFSETTO:-0800
TZNAME:PST
DTSTART:20241103T090000
END:STANDARD
END:VTIMEZONE
BEGIN:VEVENT
DTSTART;TZID=America/Los_Angeles:20240316T140000
DTEND;TZID=America/Los_Angeles:20240316T160000
DTSTAMP:20260421T153157
CREATED:20170319T222917Z
LAST-MODIFIED:20240307T000335Z
UID:678-1710597600-1710604800@thesirenmorrobay.com
SUMMARY:Soundhouse (Free Afternoon Show!)
DESCRIPTION:This show is from 2-4pm \nFavorite covers from 70’s\, 80’s and 90’s in the most maximum rock n roll style imaginable! Bring your dancing shoes and your drinking hat for the biggest party on the coast! No cover all night \n  \n \n  \n 
URL:https://thesirenmorrobay.com/event/soundhouse-2/
LOCATION:The Siren\, 900 Main St.\, Morro Bay\, CA\, 93422\, United States
ATTACH;FMTTYPE=image/png:https://thesirenmorrobay.com/wp-content/uploads/2017/03/soundhouse.png
END:VEVENT
END:VCALENDAR