BEGIN:VCALENDAR
VERSION:2.0
PRODID:-//The Siren, Morro Bay, CA - ECPv5.1.6//NONSGML v1.0//EN
CALSCALE:GREGORIAN
METHOD:PUBLISH
X-WR-CALNAME:The Siren, Morro Bay, CA
X-ORIGINAL-URL:https://thesirenmorrobay.com
X-WR-CALDESC:Events for The Siren, Morro Bay, CA
BEGIN:VTIMEZONE
TZID:America/Los_Angeles
BEGIN:DAYLIGHT
TZOFFSETFROM:-0800
TZOFFSETTO:-0700
TZNAME:PDT
DTSTART:20180311T100000
END:DAYLIGHT
BEGIN:STANDARD
TZOFFSETFROM:-0700
TZOFFSETTO:-0800
TZNAME:PST
DTSTART:20181104T090000
END:STANDARD
END:VTIMEZONE
BEGIN:VEVENT
DTSTART;TZID=America/Los_Angeles:20181101T193000
DTEND;TZID=America/Los_Angeles:20181101T213000
DTSTAMP:20260421T061922
CREATED:20180422T231802Z
LAST-MODIFIED:20181022T195935Z
UID:1707-1541100600-1541107800@thesirenmorrobay.com
SUMMARY:Traffic Record and KCBX Present: The White Blinds!
DESCRIPTION:Presented in conjunction with Traffic Record Store and KCBX Radio: Join us for an evening of world class soul jazz by organ trio The White Blinds as they make their second return trip to The Siren in Morro Bay and third live performance on the central coast. Tickets available in advance at Eventbrite.com! \nEmerging from the tight-knit Los Angeles Funk and Soul community\, The White Blinds are one of the newest true Organ Trios to carry the torch of instrumental music in the city of Angels. The White Blinds pay homage to the classic soul jazz sound of the 60’s and 70’s with a splash of New Orleans groove and Afro-Funk overtones. For lovers of Dr. Lonnie Smith\, Charles Earland\, and Jimmy McGriff\, this trio led by drummer and percussionist Michael Duffy (Jungle Fire\, Ozomatli)\, with Organist Carey Frank(Tedeschi Trucks)\, and Guitarist Matt Hornbeck\, have come together to form a tight and soulful ensemble\, filtered though the lens that is uniquely Los Angeles. \nTheir forthcoming debut LP “Get To Steppin” is due out Summer 2018 on Southern California’s premier Soul\, Jazz\, and Funk vinyl record label\, F-Spot Records. The album features ten songs consisting of nine originals and one take on the classic tune “Blue Juice” by Jimmy McGriff.
URL:https://thesirenmorrobay.com/event/slo-record-swap-presents-the-whilte-blinds/
LOCATION:The Siren\, 900 Main St.\, Morro Bay\, CA\, 93422\, United States
END:VEVENT
END:VCALENDAR