BEGIN:VCALENDAR
VERSION:2.0
PRODID:-//The Siren, Morro Bay, CA - ECPv5.1.6//NONSGML v1.0//EN
CALSCALE:GREGORIAN
METHOD:PUBLISH
X-WR-CALNAME:The Siren, Morro Bay, CA
X-ORIGINAL-URL:https://thesirenmorrobay.com
X-WR-CALDESC:Events for The Siren, Morro Bay, CA
BEGIN:VTIMEZONE
TZID:America/Los_Angeles
BEGIN:DAYLIGHT
TZOFFSETFROM:-0800
TZOFFSETTO:-0700
TZNAME:PDT
DTSTART:20180311T100000
END:DAYLIGHT
BEGIN:STANDARD
TZOFFSETFROM:-0700
TZOFFSETTO:-0800
TZNAME:PST
DTSTART:20181104T090000
END:STANDARD
END:VTIMEZONE
BEGIN:VEVENT
DTSTART;TZID=America/Los_Angeles:20181207T193000
DTEND;TZID=America/Los_Angeles:20181207T233000
DTSTAMP:20260421T085919
CREATED:20181110T005011Z
LAST-MODIFIED:20181110T005011Z
UID:2511-1544211000-1544225400@thesirenmorrobay.com
SUMMARY:SLO Gathering Presented By Good Medicine
DESCRIPTION:Doors open at 7:30pm\, 21+ \nTickets available in advance in person at BooBoo Records or online at Ticketfly.com. \n  \nFriends! We are SO above honored and stoked this year to be hosting and headlining the 2018 SLO Gathering! It is Friday December 7 and will feature: \nCimo Brothers\nArthur Watership\nAnd \nMiss Leo & Her Bluegrass Boys \n\nWe’re really hoping to bring you some of the best acts our area has to offer musically – we are thrilled all 3 of these acts are able to join us at The Siren in Morro Bay! \nHope you can mark it on your calendars and we’ll see you there! BMR will be hosting and showcasing new songs from thier forthcoming second full length album (late spring 2019)
URL:https://thesirenmorrobay.com/event/slo-gathering-presented-by-good-medicine/
LOCATION:The Siren\, 900 Main St.\, Morro Bay\, CA\, 93422\, United States
END:VEVENT
END:VCALENDAR