BEGIN:VCALENDAR
VERSION:2.0
PRODID:-//The Siren, Morro Bay, CA - ECPv5.1.6//NONSGML v1.0//EN
CALSCALE:GREGORIAN
METHOD:PUBLISH
X-WR-CALNAME:The Siren, Morro Bay, CA
X-ORIGINAL-URL:https://thesirenmorrobay.com
X-WR-CALDESC:Events for The Siren, Morro Bay, CA
BEGIN:VTIMEZONE
TZID:America/Los_Angeles
BEGIN:DAYLIGHT
TZOFFSETFROM:-0800
TZOFFSETTO:-0700
TZNAME:PDT
DTSTART:20190310T100000
END:DAYLIGHT
BEGIN:STANDARD
TZOFFSETFROM:-0700
TZOFFSETTO:-0800
TZNAME:PST
DTSTART:20191103T090000
END:STANDARD
END:VTIMEZONE
BEGIN:VEVENT
DTSTART;TZID=America/Los_Angeles:20190331T183000
DTEND;TZID=America/Los_Angeles:20190331T213000
DTSTAMP:20260421T150637
CREATED:20190103T060832Z
LAST-MODIFIED:20190103T060832Z
UID:2802-1554057000-1554067800@thesirenmorrobay.com
SUMMARY:Siren Comedy Night Benefitting Montessori Parent Network at The Siren
DESCRIPTION:Doors open at 6:30pm\, show starts at 7pm. 21+ (Seating is all general admission\, first come first serve)
URL:https://thesirenmorrobay.com/event/siren-comedy-night-benefitting-montessori-parent-network-at-the-siren/
LOCATION:The Siren\, 900 Main St.\, Morro Bay\, CA\, 93422\, United States
END:VEVENT
END:VCALENDAR