BEGIN:VCALENDAR
VERSION:2.0
PRODID:-//The Siren, Morro Bay, CA - ECPv5.1.6//NONSGML v1.0//EN
CALSCALE:GREGORIAN
METHOD:PUBLISH
X-WR-CALNAME:The Siren, Morro Bay, CA
X-ORIGINAL-URL:https://thesirenmorrobay.com
X-WR-CALDESC:Events for The Siren, Morro Bay, CA
BEGIN:VTIMEZONE
TZID:America/Los_Angeles
BEGIN:DAYLIGHT
TZOFFSETFROM:-0800
TZOFFSETTO:-0700
TZNAME:PDT
DTSTART:20190310T100000
END:DAYLIGHT
BEGIN:STANDARD
TZOFFSETFROM:-0700
TZOFFSETTO:-0800
TZNAME:PST
DTSTART:20191103T090000
END:STANDARD
END:VTIMEZONE
BEGIN:VEVENT
DTSTART;TZID=America/Los_Angeles:20190516T190000
DTEND;TZID=America/Los_Angeles:20190516T223000
DTSTAMP:20260421T164605
CREATED:20190402T230808Z
LAST-MODIFIED:20190510T021300Z
UID:3183-1558033200-1558045800@thesirenmorrobay.com
SUMMARY:She Wants Revenge w/Kanga
DESCRIPTION:Doors open at 7pm 21+  **(The venue will be closed from 5:30pm to 7pm to complete soundcheck and prepare the venue for the show) Doors open at 7pm sharp.  Advance hard copy tickets are available in person at Boo Boo Record Store in SLO. Print at home/mobile/will call tickets can be purchased online at Ticketfly.com by clicking: HERE. All tickets are general admission unless otherwise stated. The Siren is a small\, intimate club style venue and seating is extremely limited on a first come first served basis after doors open and is dictated by estimated show sales. IT IS NOT A TOTALLY SEATED VENUE. Food is still served during concerts. We appreciate you supporting live music at the Siren! \n\nShe Wants Revenge is a post-punk/darkwave duo hailing from Los Angeles\, California who formed in 2005. The band is comprised of Justin Warfield (vocals\, guitar\, keyboards) and Adam Bravin (bass\, keyboards). Accompaniment members Thomas Froggatt (guitar) and Scott Ellis (drums) join them on stage. The band have released three albums: “She Wants Revenge” (2006)\, “This is Forever” (2007) and “Valleyheart” (2011) \nShe Wants Revenge’s music is hard to emcompass into a single genre or sound. It draws inspiration from several alternative rock and new wave artists. The band blends their influences with ever-present electronics (eg. synths and drum machines) in a style most accurately labeled under the umbrella term\, “darkwave”\, a style of music reminiscent of the New Wave and Gothic Rock sounds of the 1980s. \nShe Wants Revenge have stated that they make “dance music” on numerous occasions setting them aside from the contemporary rock bands often falsely linked with the band in the music press. \n  \nKANGA Is: \nHyper-surreal objectifications of cold observations.\nSelf produced electronic musician ~
URL:https://thesirenmorrobay.com/event/she-wants-revenge/
LOCATION:The Siren\, 900 Main St.\, Morro Bay\, CA\, 93422\, United States
END:VEVENT
END:VCALENDAR