BEGIN:VCALENDAR
VERSION:2.0
PRODID:-//The Siren, Morro Bay, CA - ECPv5.1.6//NONSGML v1.0//EN
CALSCALE:GREGORIAN
METHOD:PUBLISH
X-WR-CALNAME:The Siren, Morro Bay, CA
X-ORIGINAL-URL:https://thesirenmorrobay.com
X-WR-CALDESC:Events for The Siren, Morro Bay, CA
BEGIN:VTIMEZONE
TZID:America/Los_Angeles
BEGIN:DAYLIGHT
TZOFFSETFROM:-0800
TZOFFSETTO:-0700
TZNAME:PDT
DTSTART:20190310T100000
END:DAYLIGHT
BEGIN:STANDARD
TZOFFSETFROM:-0700
TZOFFSETTO:-0800
TZNAME:PST
DTSTART:20191103T090000
END:STANDARD
END:VTIMEZONE
BEGIN:VEVENT
DTSTART;TZID=America/Los_Angeles:20190504T140000
DTEND;TZID=America/Los_Angeles:20190504T173000
DTSTAMP:20260421T150158
CREATED:20180105T020559Z
LAST-MODIFIED:20190306T003837Z
UID:1320-1556978400-1556991000@thesirenmorrobay.com
SUMMARY:Shaky Groundz
DESCRIPTION:Morro Bay Car Show weekend! FREE SHOW! 21+ \nR&B\, Soul\, Tex-Mex\, Funk\, Blues\, Rock\, Latin… “Shaky Groundz” plays just good Ol’ dance music! \n30 Golfing friends that golf every Wednesday discover some musical talent among themselves and the next thing said ..Let’s Jam”…What started as a jam session turn into “Shaky Groundz” As every musician knows it takes the right chemistry and members to make it work and this group of guys and our new edition our lady Karen works well\, it wasn’t easy getting here but we are here “Shaky Groundz” goal musically.is to be different musically than the groups you hear around the Santa Maria area\,and surrounding cities. Back in the day\, if you can relate\, sometimes the B-side was as good or better than the A-side. We like to be the ones that play a song that you totally forgotten from back in the day and suddenly you say to yourself…..Man\, I Loved that song !!!…. along with a few originals we wrote we play R&B\,Soul\,Tex-Mex\,Funk\,Blues\,Rock\, Latin “Shaky Groundz” plays just good Ol’ dance music. As we see our fan base growing and growing at each performance “Shaky Groundz” has found the niche in the music that people enjoy dancing to and hearing……our audiences are enjoying the difference in music that we play… Why ? Because we play it … “Shaky Groundz Style” If you took the time to read this …”We Thank You” …Now come join us for a evening of fun and music
URL:https://thesirenmorrobay.com/event/shaky-groundz/
LOCATION:The Siren\, 900 Main St.\, Morro Bay\, CA\, 93422\, United States
END:VEVENT
END:VCALENDAR