BEGIN:VCALENDAR
VERSION:2.0
PRODID:-//The Siren, Morro Bay, CA - ECPv5.1.6//NONSGML v1.0//EN
CALSCALE:GREGORIAN
METHOD:PUBLISH
X-WR-CALNAME:The Siren, Morro Bay, CA
X-ORIGINAL-URL:https://thesirenmorrobay.com
X-WR-CALDESC:Events for The Siren, Morro Bay, CA
BEGIN:VTIMEZONE
TZID:America/Los_Angeles
BEGIN:DAYLIGHT
TZOFFSETFROM:-0800
TZOFFSETTO:-0700
TZNAME:PDT
DTSTART:20180311T100000
END:DAYLIGHT
BEGIN:STANDARD
TZOFFSETFROM:-0700
TZOFFSETTO:-0800
TZNAME:PST
DTSTART:20181104T090000
END:STANDARD
END:VTIMEZONE
BEGIN:VEVENT
DTSTART;TZID=America/Los_Angeles:20181215T200000
DTEND;TZID=America/Los_Angeles:20181215T233000
DTSTAMP:20260421T085818
CREATED:20181031T215139Z
LAST-MODIFIED:20181212T000803Z
UID:2490-1544904000-1544916600@thesirenmorrobay.com
SUMMARY:Saving Abel Live at The Siren!
DESCRIPTION:Doors open at 8pm\, 21+ (Tickets available in person at BooBoo Records or get mobile tix at ticketfly.com) \n\nBlack Oxygen and Rusted Stone will be opening the show! \nSince 2008 Saving Abel has embodied the definition of “Southern Rock.” Even before their “Self Titled” debut LP\, they were barnstorming the country making fans everywhere they went\, just by being themselves. Simple\, down home\, charming\, country-boys with immeasurable talent that was destined to take them straight to the top. The band was signed by A&R wizard Jason Flom to Capitol records and their first single\, “Addicted” did just that\, reaching number one on several charts and the follow-up singles “18 Days” and “Drowning” helped sell over 750\,000 copies of their debut album. They toured heavily in support of this album\, playing with Buckcherry and Avenged Sevenfold\, and later on Nickelback\, in arenas across North America. Night after night\, the boys would go back to the bus with their ears ringing from 15\,000 fans screaming their lyrics.
URL:https://thesirenmorrobay.com/event/saving-abel-live-at-the-siren/
LOCATION:The Siren\, 900 Main St.\, Morro Bay\, CA\, 93422\, United States
END:VEVENT
END:VCALENDAR