BEGIN:VCALENDAR
VERSION:2.0
PRODID:-//The Siren, Morro Bay, CA - ECPv5.1.6//NONSGML v1.0//EN
CALSCALE:GREGORIAN
METHOD:PUBLISH
X-WR-CALNAME:The Siren, Morro Bay, CA
X-ORIGINAL-URL:https://thesirenmorrobay.com
X-WR-CALDESC:Events for The Siren, Morro Bay, CA
BEGIN:VTIMEZONE
TZID:America/Los_Angeles
BEGIN:DAYLIGHT
TZOFFSETFROM:-0800
TZOFFSETTO:-0700
TZNAME:PDT
DTSTART:20190310T100000
END:DAYLIGHT
BEGIN:STANDARD
TZOFFSETFROM:-0700
TZOFFSETTO:-0800
TZNAME:PST
DTSTART:20191103T090000
END:STANDARD
END:VTIMEZONE
BEGIN:VEVENT
DTSTART;TZID=America/Los_Angeles:20190307T190000
DTEND;TZID=America/Los_Angeles:20190307T220000
DTSTAMP:20260421T131920
CREATED:20190117T020714Z
LAST-MODIFIED:20190308T024933Z
UID:2868-1551985200-1551996000@thesirenmorrobay.com
SUMMARY:Songwriter night Feat: Sam Valdez + Rodes Rollins
DESCRIPTION:21+ music starts at 7pm. Two very buzzy artists from Los Angeles and New York respectively – Both making lots of great music right now. Come on out and check out an intimate night of amazing singer/songwriting from these two rising stars as well as some of the Central Coast’s favorite songwriters!\n\n\n\n\n\n\nSam Valdez is a Los Angeles based singer-songwriter\, whose music is built upon the fusion of shoe-gaze and vintage Americana indie folk. Embodying the best of both genres\, Valdez has created dreamy\, yet haunting atmospheric soundscapes that resonate with her listeners. Receiving strong support from KCRW\, Headline performance at Bootleg Theatre in LA\nBandcamp: https://samvaldezsounds.bandcamp.com/releases\n\nWebsite: https://www.samvaldezsounds.com \nFacebook: https://www.facebook.com/Sam–Valdez–1069625936433299/\n\n\n\n\nRodes Rollins: \nIf a spaghetti western and Nancy Sinatra had a love child\, it would be Rodes Rollins. The 23-year-old singer could fool you into thinking she’s from another time\, care of her haunting vocals and sprawling psychedelic-tinged Americana rhythms. But it’s 2019 and Rollins proves that her music transcends space and time.\nLatest A/B side released in October 2018\, produced by Noah Gregerson (Devendra Banhart\, Rodrigo Amarante)\nHas recorded with Stella Mozgawa of Warpaint\, Greg Rogove of Devendra Banhhart\, and Kane Ritchotte of Portugal. The Man\nReceiving strong support from KCRW\nSpotify: https://open.spotify.com/artist/4b8qBVKht5PJn15AgizNv0?si=H02Rvl9XREuwHHmZyEtDng\nWebsite: https://www.rodesrollins.com
URL:https://thesirenmorrobay.com/event/sam-valdez-rodes-rollins/
LOCATION:The Siren\, 900 Main St.\, Morro Bay\, CA\, 93422\, United States
END:VEVENT
END:VCALENDAR