BEGIN:VCALENDAR
VERSION:2.0
PRODID:-//The Siren, Morro Bay, CA - ECPv5.1.6//NONSGML v1.0//EN
CALSCALE:GREGORIAN
METHOD:PUBLISH
X-WR-CALNAME:The Siren, Morro Bay, CA
X-ORIGINAL-URL:https://thesirenmorrobay.com
X-WR-CALDESC:Events for The Siren, Morro Bay, CA
BEGIN:VTIMEZONE
TZID:America/Los_Angeles
BEGIN:DAYLIGHT
TZOFFSETFROM:-0800
TZOFFSETTO:-0700
TZNAME:PDT
DTSTART:20250309T100000
END:DAYLIGHT
BEGIN:STANDARD
TZOFFSETFROM:-0700
TZOFFSETTO:-0800
TZNAME:PST
DTSTART:20251102T090000
END:STANDARD
END:VTIMEZONE
BEGIN:VEVENT
DTSTART;TZID=America/Los_Angeles:20250222T193000
DTEND;TZID=America/Los_Angeles:20250222T223000
DTSTAMP:20260420T214722
CREATED:20220421T160903Z
LAST-MODIFIED:20250122T024429Z
UID:5517-1740252600-1740263400@thesirenmorrobay.com
SUMMARY:Free Saturday Night Rock Show with Counterfeit Kings!
DESCRIPTION:THE NEW SHOW IS: COUNTERFEIT KINGS ~ Entertaining the Central Coast for over 10 years\, The Counterfeit Kings bring back grunge and modern rock hits from the 90s and 2000s. Be sure to bring your flannel shirts and Doc Martens as they take you back to the last great decades of high-energy rock and roll. \n 
URL:https://thesirenmorrobay.com/event/robert-plantnation-a-tribute-to-robert-plant-of-led-zeppelin/
LOCATION:The Siren\, 900 Main St.\, Morro Bay\, CA\, 93422\, United States
ATTACH;FMTTYPE=image/png:https://thesirenmorrobay.com/wp-content/uploads/2022/04/Screen-Shot-2022-06-09-at-3.45.36-PM.png
END:VEVENT
END:VCALENDAR