BEGIN:VCALENDAR
VERSION:2.0
PRODID:-//The Siren, Morro Bay, CA - ECPv5.1.6//NONSGML v1.0//EN
CALSCALE:GREGORIAN
METHOD:PUBLISH
X-WR-CALNAME:The Siren, Morro Bay, CA
X-ORIGINAL-URL:https://thesirenmorrobay.com
X-WR-CALDESC:Events for The Siren, Morro Bay, CA
BEGIN:VTIMEZONE
TZID:America/Los_Angeles
BEGIN:DAYLIGHT
TZOFFSETFROM:-0800
TZOFFSETTO:-0700
TZNAME:PDT
DTSTART:20240310T100000
END:DAYLIGHT
BEGIN:STANDARD
TZOFFSETFROM:-0700
TZOFFSETTO:-0800
TZNAME:PST
DTSTART:20241103T090000
END:STANDARD
END:VTIMEZONE
BEGIN:VEVENT
DTSTART;TZID=America/Los_Angeles:20240302T140000
DTEND;TZID=America/Los_Angeles:20240302T170000
DTSTAMP:20260421T140609
CREATED:20231230T233404Z
LAST-MODIFIED:20231230T233404Z
UID:7043-1709388000-1709398800@thesirenmorrobay.com
SUMMARY:Random 2.0 ( Free afternoon show 2-5pm)
DESCRIPTION:RANDOM 2.0: A collective of veteran local players come together to play reverent versions of Rock\, Hard\nRock\, and FUN Dance covers. If you like to Dance and hear powerful versions of classic tunes; Come out to\nParty and hear Kelly\, Tim\, Don\, and Eric pump out the jams… Lunch and cold drinks served starting at 11:30am\, get there at 1pm to grab a table by the dance floor.
URL:https://thesirenmorrobay.com/event/random-2-0-free-afternoon-show-2-5pm/
LOCATION:The Siren\, 900 Main St.\, Morro Bay\, CA\, 93422\, United States
ATTACH;FMTTYPE=image/jpeg:https://thesirenmorrobay.com/wp-content/uploads/2023/12/Random-2.0-Art.jpeg
END:VEVENT
END:VCALENDAR