BEGIN:VCALENDAR
VERSION:2.0
PRODID:-//The Siren, Morro Bay, CA - ECPv5.1.6//NONSGML v1.0//EN
CALSCALE:GREGORIAN
METHOD:PUBLISH
X-WR-CALNAME:The Siren, Morro Bay, CA
X-ORIGINAL-URL:https://thesirenmorrobay.com
X-WR-CALDESC:Events for The Siren, Morro Bay, CA
BEGIN:VTIMEZONE
TZID:America/Los_Angeles
BEGIN:DAYLIGHT
TZOFFSETFROM:-0800
TZOFFSETTO:-0700
TZNAME:PDT
DTSTART:20180311T100000
END:DAYLIGHT
BEGIN:STANDARD
TZOFFSETFROM:-0700
TZOFFSETTO:-0800
TZNAME:PST
DTSTART:20181104T090000
END:STANDARD
END:VTIMEZONE
BEGIN:VEVENT
DTSTART;TZID=America/Los_Angeles:20180907T190000
DTEND;TZID=America/Los_Angeles:20180907T220000
DTSTAMP:20260421T150454
CREATED:20180710T235706Z
LAST-MODIFIED:20180710T235706Z
UID:2046-1536346800-1536357600@thesirenmorrobay.com
SUMMARY:"Patsy Cline Spectacular" - A Tribute to Patsy Cline performed by the Carolyn Sills Combo
DESCRIPTION:Doors open at 7pm. The Siren is a small and intimate venue and seating is limited\, first come first serve. \n“Patsy Cline Spectacular” – A Tribute to Patsy Cline performed by the Carolyn Sills Combo \nThe Siren\nFriday Sept. 7th – 7pm doors – 21+\n$12adv/$15dos\n \nOn-sale now. Advance tickets available at BooBoo Records in SLO or online at ticketfly.com
URL:https://thesirenmorrobay.com/event/patsy-cline-spectacular-a-tribute-to-patsy-cline-performed-by-the-carolyn-sills-combo/
LOCATION:The Siren\, 900 Main St.\, Morro Bay\, CA\, 93422\, United States
END:VEVENT
END:VCALENDAR