BEGIN:VCALENDAR
VERSION:2.0
PRODID:-//The Siren, Morro Bay, CA - ECPv5.1.6//NONSGML v1.0//EN
CALSCALE:GREGORIAN
METHOD:PUBLISH
X-WR-CALNAME:The Siren, Morro Bay, CA
X-ORIGINAL-URL:https://thesirenmorrobay.com
X-WR-CALDESC:Events for The Siren, Morro Bay, CA
BEGIN:VTIMEZONE
TZID:America/Los_Angeles
BEGIN:DAYLIGHT
TZOFFSETFROM:-0800
TZOFFSETTO:-0700
TZNAME:PDT
DTSTART:20180311T100000
END:DAYLIGHT
BEGIN:STANDARD
TZOFFSETFROM:-0700
TZOFFSETTO:-0800
TZNAME:PST
DTSTART:20181104T090000
END:STANDARD
END:VTIMEZONE
BEGIN:VEVENT
DTSTART;TZID=America/Los_Angeles:20180928T210000
DTEND;TZID=America/Los_Angeles:20180928T210000
DTSTAMP:20260422T212555
CREATED:20170101T055509Z
LAST-MODIFIED:20180814T233214Z
UID:455-1538168400-1538168400@thesirenmorrobay.com
SUMMARY:Night Animals
DESCRIPTION:  \n9pm to 11:30pm – FREE show 21+ \n  \nA six-piece\, funk pop band from San Francisco. \n 
URL:https://thesirenmorrobay.com/event/night-animals/
LOCATION:The Siren\, 900 Main St.\, Morro Bay\, CA\, 93422\, United States
END:VEVENT
END:VCALENDAR