BEGIN:VCALENDAR
VERSION:2.0
PRODID:-//The Siren, Morro Bay, CA - ECPv5.1.6//NONSGML v1.0//EN
CALSCALE:GREGORIAN
METHOD:PUBLISH
X-WR-CALNAME:The Siren, Morro Bay, CA
X-ORIGINAL-URL:https://thesirenmorrobay.com
X-WR-CALDESC:Events for The Siren, Morro Bay, CA
BEGIN:VTIMEZONE
TZID:America/Los_Angeles
BEGIN:DAYLIGHT
TZOFFSETFROM:-0800
TZOFFSETTO:-0700
TZNAME:PDT
DTSTART:20190310T100000
END:DAYLIGHT
BEGIN:STANDARD
TZOFFSETFROM:-0700
TZOFFSETTO:-0800
TZNAME:PST
DTSTART:20191103T090000
END:STANDARD
END:VTIMEZONE
BEGIN:VEVENT
DTSTART;TZID=America/Los_Angeles:20190117T190000
DTEND;TZID=America/Los_Angeles:20190117T220000
DTSTAMP:20260421T102201
CREATED:20181030T232511Z
LAST-MODIFIED:20181120T042140Z
UID:2478-1547751600-1547762400@thesirenmorrobay.com
SUMMARY:New Breed Brass Band
DESCRIPTION:21+ Doors open at 7pm \nNew Breed Brass Band lives and breathes the culture of New Orleans\, infusing funk\, rock\, jazz\, and hip-hop into a custom-made enhancement of second-line brass band tradition. \n \n\n“That’s what we came up under\,” says snare-drummer Jenard Andrews of second line bands like the ReBirth\, Dirty Dozen and Lil’ Rascals Brass Bands. “Now we’re trying to take that sound and bring in some new stuff and expand it. We bring outside influences like Earth Wind & Fire and Brass Construction\, trying to interpret a different song for every genre\, and make it all our own sound.” \nNew Breed Brass Band made its street debut in November 2013 at the Nine Times Second Line. Since then\, they have showcased their originality opening for such diverse bands as The Fray\, Red Baraat\, Dr. John\, The Waterboys\, and Trombone Shorty & Orleans Avenue\, as well as competing in the Red Bull Street Kings brass band competition in 2013.
URL:https://thesirenmorrobay.com/event/new-breed-brass-band/
LOCATION:The Siren\, 900 Main St.\, Morro Bay\, CA\, 93422\, United States
END:VEVENT
END:VCALENDAR