BEGIN:VCALENDAR
VERSION:2.0
PRODID:-//The Siren, Morro Bay, CA - ECPv5.1.6//NONSGML v1.0//EN
CALSCALE:GREGORIAN
METHOD:PUBLISH
X-WR-CALNAME:The Siren, Morro Bay, CA
X-ORIGINAL-URL:https://thesirenmorrobay.com
X-WR-CALDESC:Events for The Siren, Morro Bay, CA
BEGIN:VTIMEZONE
TZID:America/Los_Angeles
BEGIN:DAYLIGHT
TZOFFSETFROM:-0800
TZOFFSETTO:-0700
TZNAME:PDT
DTSTART:20190310T100000
END:DAYLIGHT
BEGIN:STANDARD
TZOFFSETFROM:-0700
TZOFFSETTO:-0800
TZNAME:PST
DTSTART:20191103T090000
END:STANDARD
END:VTIMEZONE
BEGIN:VEVENT
DTSTART;TZID=America/Los_Angeles:20190328T190000
DTEND;TZID=America/Los_Angeles:20190328T223000
DTSTAMP:20260421T132001
CREATED:20190220T041905Z
LAST-MODIFIED:20190220T041905Z
UID:2956-1553799600-1553812200@thesirenmorrobay.com
SUMMARY:Max Romeo & Dub Tonic Kru
DESCRIPTION:Doors open at 7pm 21+  **(The venue will be closed from 6pm to 7pm to complete soundcheck and prepare the venue for the show) Doors open at 7pm sharp.  Advance hard copy tickets are available in person at Boo Boo Record Store in SLO. Print at home/mobile/will call tickets can be purchased online at Ticketfly.com by clicking: HERE. All tickets are general admission unless otherwise stated. The Siren is a small\, intimate club style venue and seating is extremely limited on a first come first served basis after doors open and is dictated by estimated show sales. IT IS NOT A SEATED VENUE. Food is still served during concerts. We appreciate you supporting live music at the Siren! \n\nMax Romeo (born Maxwell Livingston Smith\, 22 November 1947\, St. D’Acre\, St. Ann\, Jamaica)\, is a reggae and roots reggae recording artist who has achieved chart success in his home country\, and in the UK. The singer who put the rude in rude boy\, Max Romeo was responsible for launching an entirely new sub-genre of reggae\, whose overtly suggestive lyrics caused an outcry but took a massive hold of the music scene regardless. Yet innuendo was the least of the singer’s stylings\, previous to the release of his infamous “Wet Dream\,” Romeo had garnered a string of sweet hits with the vocal trio the Emotions. And once the nocturnal naughtiness faded\, the singer established himself as one of the most important figures in the roots scene. He left home at the age of 14 and worked on a sugar plantation outside Clarendon\, cleaning out irrigation ditches\, before winning a local talent competition when he was 18; prompting a move to the capital\, Kingston\, in order to achieve a successful musical career.
URL:https://thesirenmorrobay.com/event/max-romeo-dub-tonic-kru/
LOCATION:The Siren\, 900 Main St.\, Morro Bay\, CA\, 93422\, United States
END:VEVENT
END:VCALENDAR