BEGIN:VCALENDAR
VERSION:2.0
PRODID:-//The Siren, Morro Bay, CA - ECPv5.1.6//NONSGML v1.0//EN
CALSCALE:GREGORIAN
METHOD:PUBLISH
X-WR-CALNAME:The Siren, Morro Bay, CA
X-ORIGINAL-URL:https://thesirenmorrobay.com
X-WR-CALDESC:Events for The Siren, Morro Bay, CA
BEGIN:VTIMEZONE
TZID:America/Los_Angeles
BEGIN:DAYLIGHT
TZOFFSETFROM:-0800
TZOFFSETTO:-0700
TZNAME:PDT
DTSTART:20240310T100000
END:DAYLIGHT
BEGIN:STANDARD
TZOFFSETFROM:-0700
TZOFFSETTO:-0800
TZNAME:PST
DTSTART:20241103T090000
END:STANDARD
END:VTIMEZONE
BEGIN:VEVENT
DTSTART;TZID=America/Los_Angeles:20240303T190000
DTEND;TZID=America/Los_Angeles:20240303T220000
DTSTAMP:20260421T141221
CREATED:20231228T032414Z
LAST-MODIFIED:20240215T050146Z
UID:7040-1709492400-1709503200@thesirenmorrobay.com
SUMMARY:Mark Sultan (of The King Khan & BBQ Show) w/Plywood Love
DESCRIPTION:Mark Sultan… Have you heard this name before? You’ve definitely heard his song on tic toc or every instagram reel posted in 2023! One half of the King Khan & BBQ Show and the infamous BBQ one man band. Singer/guitarist of Mind Controls. Drummer/singer of Les Sexareenos. Singer of The Spaceshits. Collaborator with The Deadly Snakes\, Jack Oblivian and The Demon’s Claws. Treasurer of the Death Cult (along with Khan\, the Demon’s Claws\, The Black Lips\, The Spits and The Gris Gris). Owner of Sultan Records. He’s toured the world several times over as a musical vagabond of missionary proportions. Ring a bell? He’s been called everything from ‘our generation’s Gerry Roslie’ to ‘a visionary with the voice of an angel’ and ‘a true rock’n’roll hero’. The Sultanic Verses\, his first album as ‘Mark Sultan’\, lets him live up to these heady statements and beyond. \nForegoing the one man\, live recording style he perfected as ‘BBQ’ for the most part\, Sultan decided to do an album recording many of the instruments himself and inviting friends to fill in the gaps. Recorded in Berlin and Montreal\, the results are perfect. Proving his reputation as one of the world’s finest rock’n’roll singers and songwriters\, but also expanding his repertoire by throwing experimental\, psychedelic and punk rock \n\nPLYWOOD LOVE is 5 intergalactic forces that collided at one moment of space and time\,\nresulting in an electric explosion of fire\, love\, and everything in\nbetween. Hailing from the college town of San Luis Obispo\, Plywood\nLove is Skyllar Evans (vocals)\, Matthew Tibbetts (guitar)\, Charlie\nCroxdale (guitar)\, Dane Kelly (bass)\, and Owen Peters (drums).\nResiding in the central coast underground music scene\, we have played\nin bars\, on the streets\, in basements\, small venues\, parking garages\,\netc… Although we come from all over the country\, with our combined\ninterest in all things music\, our inception in the fall of 2021 was\ninevitable. Plywood Love creates something that resembles surf rock\,\nbut wouldn’t be categorized as such. Our sound is upbeat\,\nunapologetic\, and above all unambiguously unique. \nBand Website Link:\nhttps://sites.google.com/view/plywoodlove/home
URL:https://thesirenmorrobay.com/event/mark-sultan-of-the-king-khan-bbq-show/
LOCATION:The Siren\, 900 Main St.\, Morro Bay\, CA\, 93422\, United States
ATTACH;FMTTYPE=image/png:https://thesirenmorrobay.com/wp-content/uploads/2023/12/Screenshot-2023-12-27-at-7.14.30-PM.png
END:VEVENT
END:VCALENDAR