BEGIN:VCALENDAR
VERSION:2.0
PRODID:-//The Siren, Morro Bay, CA - ECPv5.1.6//NONSGML v1.0//EN
CALSCALE:GREGORIAN
METHOD:PUBLISH
X-WR-CALNAME:The Siren, Morro Bay, CA
X-ORIGINAL-URL:https://thesirenmorrobay.com
X-WR-CALDESC:Events for The Siren, Morro Bay, CA
BEGIN:VTIMEZONE
TZID:America/Los_Angeles
BEGIN:DAYLIGHT
TZOFFSETFROM:-0800
TZOFFSETTO:-0700
TZNAME:PDT
DTSTART:20190310T100000
END:DAYLIGHT
BEGIN:STANDARD
TZOFFSETFROM:-0700
TZOFFSETTO:-0800
TZNAME:PST
DTSTART:20191103T090000
END:STANDARD
END:VTIMEZONE
BEGIN:VEVENT
DTSTART;TZID=America/Los_Angeles:20190404T193000
DTEND;TZID=America/Los_Angeles:20190404T220000
DTSTAMP:20260421T145537
CREATED:20181213T004132Z
LAST-MODIFIED:20181213T004132Z
UID:2689-1554406200-1554415200@thesirenmorrobay.com
SUMMARY:Lincoln Durham
DESCRIPTION:Doors open at 7:30pm. Tickets available in advance at Boo Boo Record’s in SLO or online at ticketfy.com HERE \n\nArmed with old bastardized mid-century guitars\, hand-me-down fiddles and banjos\, home-made contraptions with just enough tension on a string to be considered aninstrument and any random percussive item he can get his hands or feet on\, Lincoln Durham is a Southern-Gothic Psycho-Blues Revival-Punk One-Man-Band with a heavy amped edge\, preaching the gospel of some new kind of depraved music. With driving guttural beats backboning various growling stringed instruments Lincoln gives birth to a sound that transcends genres with his dark\, poetic and raw writing style telling tales that E.A. Poe would have been proud of. \nLincoln’s musical odyssey began when his grandpa\, Charlie\, and dad\, Ed\, put a fiddle in his hands at age 4. He would grow into an accomplished fiddle player winning the Youth Fiddle Championship at age 10. Lincoln afterward followed the path so many musicians have\, finding his vice in the seductive\, siren-like callings of the electric guitar. Or\, in Lincoln’s case\, the acoustic slide guitar with gnarly pickups haphazardly screwed into it. \nLincoln’s true biography is in his live show. The passion in his sweat drenched\, electrifyingly mesmerizing one-man-band show draws you in to feel every scar and drop of blood in his painfully intimate lyrics. It takes something beautifully “off” to get on stage with just hands and feet for a band\, driven by a howling voice\, and morbidly preach a music that harkens back to the old blues masters\, Son House and Fred McDowell\, infused with the edge and angst of Punk and darkened from the bad influences of Tom Waits and Nick Cave.
URL:https://thesirenmorrobay.com/event/lincoln-durham/
LOCATION:The Siren\, 900 Main St.\, Morro Bay\, CA\, 93422\, United States
END:VEVENT
END:VCALENDAR