BEGIN:VCALENDAR
VERSION:2.0
PRODID:-//The Siren, Morro Bay, CA - ECPv5.1.6//NONSGML v1.0//EN
CALSCALE:GREGORIAN
METHOD:PUBLISH
X-WR-CALNAME:The Siren, Morro Bay, CA
X-ORIGINAL-URL:https://thesirenmorrobay.com
X-WR-CALDESC:Events for The Siren, Morro Bay, CA
BEGIN:VTIMEZONE
TZID:America/Los_Angeles
BEGIN:DAYLIGHT
TZOFFSETFROM:-0800
TZOFFSETTO:-0700
TZNAME:PDT
DTSTART:20180311T100000
END:DAYLIGHT
BEGIN:STANDARD
TZOFFSETFROM:-0700
TZOFFSETTO:-0800
TZNAME:PST
DTSTART:20181104T090000
END:STANDARD
END:VTIMEZONE
BEGIN:VEVENT
DTSTART;TZID=America/Los_Angeles:20180801T190000
DTEND;TZID=America/Los_Angeles:20180801T220000
DTSTAMP:20260421T061719
CREATED:20180425T030850Z
LAST-MODIFIED:20180719T034452Z
UID:1769-1533150000-1533160800@thesirenmorrobay.com
SUMMARY:Lazer Lloyd w/Blues Asylum
DESCRIPTION:Doors open at 7pm (21+ Tix available at BooBoo’s & Ticketfly.com) \n“He puts soul into every note he sings and plays.” Tim Parsons\, Tahoe Onstage\n“Could it be that a rock and roll\, blues\, folk artist\, who adds a\ntinge of the psychedelic\, is America’s inheritor of the mantle that was long ago left by Bob Dylan\, Joan Baez and Judy Collins? …” Life & Arts\, The Wilmette Beacon\n“Razor sharp guitar and exuberant vocals.”\n \nInternational recording artist Lazer Lloyd returns to the West Coast for his first appearance at The Siren\, home of great music and good times with his unique mix of Americana roots\, blues roc\, folk and outlaw country with psychedelic spice. Save the date for this unforgettable musical experience. Doors open 7PM\, Opening Band (TBA) 7:30\, Lazer Lloyd 8:30-10:30PM\n$15 advance and $20 at the door. \nThe singer-songwriter and virtuoso guitarist is reaching people around the world with a message of healing and unity through music. His new breakout hit “Backstreets” has hit 700\,000K and his 125\,000 strong Facebook community around the globe enjoy sharing clips from Lloyd’s concerts when he hits the road everywhere from New York and Toronto to Bulls-Gap\, Tennessee and Mammoth Lakes\, California as well as his weekly personalized live feeds from his back porch overlooking the Jerusalem mountains.
URL:https://thesirenmorrobay.com/event/lazer-lloyd-wblues-asylum/
LOCATION:The Siren\, 900 Main St.\, Morro Bay\, CA\, 93422\, United States
END:VEVENT
END:VCALENDAR