BEGIN:VCALENDAR
VERSION:2.0
PRODID:-//The Siren, Morro Bay, CA - ECPv5.1.6//NONSGML v1.0//EN
CALSCALE:GREGORIAN
METHOD:PUBLISH
X-WR-CALNAME:The Siren, Morro Bay, CA
X-ORIGINAL-URL:https://thesirenmorrobay.com
X-WR-CALDESC:Events for The Siren, Morro Bay, CA
BEGIN:VTIMEZONE
TZID:America/Los_Angeles
BEGIN:DAYLIGHT
TZOFFSETFROM:-0800
TZOFFSETTO:-0700
TZNAME:PDT
DTSTART:20180311T100000
END:DAYLIGHT
BEGIN:STANDARD
TZOFFSETFROM:-0700
TZOFFSETTO:-0800
TZNAME:PST
DTSTART:20181104T090000
END:STANDARD
END:VTIMEZONE
BEGIN:VEVENT
DTSTART;TZID=America/Los_Angeles:20181111T190000
DTEND;TZID=America/Los_Angeles:20181111T220000
DTSTAMP:20260421T074509
CREATED:20180320T232251Z
LAST-MODIFIED:20180906T044113Z
UID:1599-1541962800-1541973600@thesirenmorrobay.com
SUMMARY:Kuinka
DESCRIPTION:Doors open at 7pm\, 21+ (Advance tickets available at BooBoo Records in SLO and online at Ticketfly.com)\nDescribed by NPR Music as joyous folk pop\, Kuinka “laces modern folk and Americana with an electronic jolt\, waltzing along the grooved edges of dream-pop\, synth-pop\, and Brooklyn’s mid-aughts guitar-rock revival” (Vanyaland). Their genre-defying music features several different lead singers\, four-part harmony\, and eclectic instrumentation including cello\, banjo\, synthesizers\, ukulele and electronic percussion. For all of their sonic experimentation\, the Seattle quartet’s songs and live shows are linked by an infectious energy that remains present in everything they do. Their new EP Stay Up Late is available now on Spotify\, iTunes\, and at www.kuinkatheband.com.
URL:https://thesirenmorrobay.com/event/kuinka-free-show-folk-pop/
LOCATION:The Siren\, 900 Main St.\, Morro Bay\, CA\, 93422\, United States
END:VEVENT
END:VCALENDAR