BEGIN:VCALENDAR
VERSION:2.0
PRODID:-//The Siren, Morro Bay, CA - ECPv5.1.6//NONSGML v1.0//EN
CALSCALE:GREGORIAN
METHOD:PUBLISH
X-WR-CALNAME:The Siren, Morro Bay, CA
X-ORIGINAL-URL:https://thesirenmorrobay.com
X-WR-CALDESC:Events for The Siren, Morro Bay, CA
BEGIN:VTIMEZONE
TZID:America/Los_Angeles
BEGIN:DAYLIGHT
TZOFFSETFROM:-0800
TZOFFSETTO:-0700
TZNAME:PDT
DTSTART:20240310T100000
END:DAYLIGHT
BEGIN:STANDARD
TZOFFSETFROM:-0700
TZOFFSETTO:-0800
TZNAME:PST
DTSTART:20241103T090000
END:STANDARD
END:VTIMEZONE
BEGIN:VEVENT
DTSTART;TZID=America/Los_Angeles:20240815T190000
DTEND;TZID=America/Los_Angeles:20240815T213000
DTSTAMP:20260421T063910
CREATED:20240608T200547Z
LAST-MODIFIED:20240815T025859Z
UID:7486-1723748400-1723757400@thesirenmorrobay.com
SUMMARY:Joe Buck Yourself! (Formerly of Hank lll\, Assjack\, Legendary Shack Shakers ) Free show
DESCRIPTION:Doors 7pm/Show 8pm. This now a free event. Dinner and tables/seating available \nThe once anti-Nashville based Joe Buck Yourself first gained notoriety touring the world as the guitarist of Th’ Legendary Shack Shakers. He then reached new heights as Hank III’s villainous sideman onstage\, taking his live show to every corner of the globe and playing to rabid crowds every night. The snarling\, beloved upright bass player became infamously recognizable and is now a stalwart\, underground institution in his own right. Joe Buck Yourself is more than music\, it’s a philosophy and Joe’s way of life\, and his live show will demonstrate with absolute certainty that he is indeed a bona fide\, evil\, motherfucking one man band. Joe Buck Yourself\, motherfuckers!!
URL:https://thesirenmorrobay.com/event/joe-buck-yourself-formerly-of-hank-lll-assjack-legendary-shack-shakers/
LOCATION:The Siren\, 900 Main St.\, Morro Bay\, CA\, 93422\, United States
ATTACH;FMTTYPE=image/jpeg:https://thesirenmorrobay.com/wp-content/uploads/2024/06/joebuck.jpeg
END:VEVENT
END:VCALENDAR