BEGIN:VCALENDAR
VERSION:2.0
PRODID:-//The Siren, Morro Bay, CA - ECPv5.1.6//NONSGML v1.0//EN
CALSCALE:GREGORIAN
METHOD:PUBLISH
X-WR-CALNAME:The Siren, Morro Bay, CA
X-ORIGINAL-URL:https://thesirenmorrobay.com
X-WR-CALDESC:Events for The Siren, Morro Bay, CA
BEGIN:VTIMEZONE
TZID:America/Los_Angeles
BEGIN:DAYLIGHT
TZOFFSETFROM:-0800
TZOFFSETTO:-0700
TZNAME:PDT
DTSTART:20240310T100000
END:DAYLIGHT
BEGIN:STANDARD
TZOFFSETFROM:-0700
TZOFFSETTO:-0800
TZNAME:PST
DTSTART:20241103T090000
END:STANDARD
END:VTIMEZONE
BEGIN:VEVENT
DTSTART;TZID=America/Los_Angeles:20240726T193000
DTEND;TZID=America/Los_Angeles:20240726T220000
DTSTAMP:20260421T080905
CREATED:20240613T212331Z
LAST-MODIFIED:20240701T021422Z
UID:7503-1722022200-1722031200@thesirenmorrobay.com
SUMMARY:Jeffery Livingstone with Katie Chappell
DESCRIPTION:Jeff Livingstone\, the soulful singer from the Los Angeles music scene\, embodies the essence of Americana\, folk\, and country. A virtuoso singer-songwriter and multi-instrumentalist\, Jeff’s music resonates with a timeless purity\, enriched by his innate ability to learn songs by ear\, harmonize\, and understand compositions with musical fluency. \nWith a lifelong devotion to music\, Jeff has recently embarked on a journey of crafting his own original compositions\, channeling influences from legendary figures like John Prine\, Bob Dylan\, and John Lennon. His guitar work\, reminiscent of icons such as Eric Clapton\, Peter Green\, and Jerry Garcia\, adds depth and dimension to his heartfelt performances. \nJeff Livingstone is a captivating storyteller and a beacon of authenticity in the modern musical landscape. Jeff’s talents have not gone unnoticed\, as he has been featured on platforms such as 95.5 KLOS and numerous other radio stations. His performances have graced notorious venues across Los Angeles\, captivating audiences with his magnetic stage presence and heartfelt delivery. Beyond his solo endeavors\, Jeff has collaborated with many musicians\, lending his versatile talents on bass\, guitar\, piano\, drums\, background vocals\, and mandolin\, further solidifying his reputation as a consummate musician and collaborator. \n\nCollaborations: \nSunlit Souls (folk rock/country) – Lead guitar\, mandolin\, and backup vocals.\nEric Roebuck (blues/rock) – Lead guitar\, bass\, and backup vocals.\nBadger Hound (country) -Lead guitar and backup vocals.\nVictoria Bailey (country) – Lead guitar\, mandolin\, bass and backup vocals.\nEarth Tone (Indy/Surf-rock) – Lead guitar and backup vocals.\nCadre Scott (soft rock/soul) – Lead guitar\, backup vocals.\nTravesura (rock) – Lead guitar\, mandolin\, and backup vocals.
URL:https://thesirenmorrobay.com/event/jeffery-livingstone-with-katie-chappall/
LOCATION:The Siren\, 900 Main St.\, Morro Bay\, CA\, 93422\, United States
ATTACH;FMTTYPE=image/png:https://thesirenmorrobay.com/wp-content/uploads/2024/06/Screenshot-2024-06-13-at-2.19.54 PM.png
END:VEVENT
END:VCALENDAR