BEGIN:VCALENDAR
VERSION:2.0
PRODID:-//The Siren, Morro Bay, CA - ECPv5.1.6//NONSGML v1.0//EN
CALSCALE:GREGORIAN
METHOD:PUBLISH
X-WR-CALNAME:The Siren, Morro Bay, CA
X-ORIGINAL-URL:https://thesirenmorrobay.com
X-WR-CALDESC:Events for The Siren, Morro Bay, CA
BEGIN:VTIMEZONE
TZID:America/Los_Angeles
BEGIN:DAYLIGHT
TZOFFSETFROM:-0800
TZOFFSETTO:-0700
TZNAME:PDT
DTSTART:20250309T100000
END:DAYLIGHT
BEGIN:STANDARD
TZOFFSETFROM:-0700
TZOFFSETTO:-0800
TZNAME:PST
DTSTART:20251102T090000
END:STANDARD
END:VTIMEZONE
BEGIN:VEVENT
DTSTART;TZID=America/Los_Angeles:20250719T140000
DTEND;TZID=America/Los_Angeles:20250719T170000
DTSTAMP:20260420T150617
CREATED:20250707T232657Z
LAST-MODIFIED:20250707T232657Z
UID:8355-1752933600-1752944400@thesirenmorrobay.com
SUMMARY:Irene Cathaway Rhythm & Blues Band (Free afternoon show)
DESCRIPTION:The Irene Cathaway Rhythm & Blues Band has been performing  in the area for\nquite a while. Traveling to do shows in Las Vegas\, Palm Springs and  LA she has\nbeen recognized as one of the best bands around\, Vocals and musicianship top\nthe equation with players who have worked with the best of the very best.\nProviding the best dance music\, this Band delivers rhythms that will definitely\nmove your feet.\nBe sure to catch this act next time you’re in town\, you won’t be disappointed!
URL:https://thesirenmorrobay.com/event/irene-cathaway-rhythm-blues-band-free-afternoon-show/
END:VEVENT
END:VCALENDAR