BEGIN:VCALENDAR
VERSION:2.0
PRODID:-//The Siren, Morro Bay, CA - ECPv5.1.6//NONSGML v1.0//EN
CALSCALE:GREGORIAN
METHOD:PUBLISH
X-WR-CALNAME:The Siren, Morro Bay, CA
X-ORIGINAL-URL:https://thesirenmorrobay.com
X-WR-CALDESC:Events for The Siren, Morro Bay, CA
BEGIN:VTIMEZONE
TZID:America/Los_Angeles
BEGIN:DAYLIGHT
TZOFFSETFROM:-0800
TZOFFSETTO:-0700
TZNAME:PDT
DTSTART:20240310T100000
END:DAYLIGHT
BEGIN:STANDARD
TZOFFSETFROM:-0700
TZOFFSETTO:-0800
TZNAME:PST
DTSTART:20241103T090000
END:STANDARD
END:VTIMEZONE
BEGIN:VEVENT
DTSTART;TZID=America/Los_Angeles:20240920T190000
DTEND;TZID=America/Los_Angeles:20240920T223000
DTSTAMP:20260421T051804
CREATED:20240902T200919Z
LAST-MODIFIED:20240902T200919Z
UID:7640-1726858800-1726871400@thesirenmorrobay.com
SUMMARY:Hot Moms Club /  Max MacLaury / Jake Shoonmaker (Free show)
DESCRIPTION:Hot Moms Club is the San Diego/Los Angeles-based music project of Eliza Rose Vera.  \n\n\n\n\n\n\n \n\n\n\n\n\n\n\n\n\n\nHot Moms Club was born on one of Eliza Vera’s morning walks in North County San Diego during the COVID lockdown after she and a friend bought ankle and wrist weights\, joking they’d be the hottest moms on the block. She released her self-titled debut EP in summer 2022\, with her single “DD” getting traction on Spotify’s Indie Fresh Finds playlist and shared by tastemakers like Audiotree\, The Alternative\, Indie Shuffle\, and David Dean Burkhart. The Hot Moms Club world of sound was described as “indie nap rock that you won’t want to wake up from” by Allison Lapinski of Indie Shuffle. Vera has also collaborated with Bartees Strange\, as he welcomed her vocal and songwriting contributions to his latest album\, Farm to Table. Eliza has a big vision for Hot Moms Club and wants all who listen or watch a live performance to feel like they are at a party surrounded by friends and family. Hot Moms Club will be sharing her next release\, the EP ‘Welcome to the Club’\, between later in 2023 and early 2024.
URL:https://thesirenmorrobay.com/event/hot-moms-club-max-maclaury-jake-shoonmaker-free-show/
LOCATION:The Siren\, 900 Main St.\, Morro Bay\, CA\, 93422\, United States
ATTACH;FMTTYPE=image/png:https://thesirenmorrobay.com/wp-content/uploads/2024/09/Screenshot-2024-09-02-at-1.07.09 PM.png
END:VEVENT
END:VCALENDAR