BEGIN:VCALENDAR
VERSION:2.0
PRODID:-//The Siren, Morro Bay, CA - ECPv5.1.6//NONSGML v1.0//EN
CALSCALE:GREGORIAN
METHOD:PUBLISH
X-WR-CALNAME:The Siren, Morro Bay, CA
X-ORIGINAL-URL:https://thesirenmorrobay.com
X-WR-CALDESC:Events for The Siren, Morro Bay, CA
BEGIN:VTIMEZONE
TZID:America/Los_Angeles
BEGIN:DAYLIGHT
TZOFFSETFROM:-0800
TZOFFSETTO:-0700
TZNAME:PDT
DTSTART:20250309T100000
END:DAYLIGHT
BEGIN:STANDARD
TZOFFSETFROM:-0700
TZOFFSETTO:-0800
TZNAME:PST
DTSTART:20251102T090000
END:STANDARD
END:VTIMEZONE
BEGIN:VEVENT
DTSTART;TZID=America/Los_Angeles:20250509T190000
DTEND;TZID=America/Los_Angeles:20250509T223000
DTSTAMP:20260421T153356
CREATED:20240808T181225Z
LAST-MODIFIED:20250328T181150Z
UID:7593-1746817200-1746829800@thesirenmorrobay.com
SUMMARY:Hillbilly Surf Stomp Featuring Cadillac Angels & Hillbilly Soul Surfers (Free show)
DESCRIPTION:A night of awesome rockabilly\, surf\, western swing and good ol’ fashioned rock N roll. 3 bands\, one HOT night! \nTony Buck and Cadillac Angels have performed in over 35 states and 8 countries. They were awarded “Best Roots Demo” at South by Southwest in Austin Texas. The band has shared the stage with legends like Bo Diddley\, Etta James\, Jerry Lee Lewis\, Carl Perkins\, Link Wray\, Dick Dale\, Los Lobos\, The Blasters\, Johnny Rivers\, and Dwight Yokum to name only a few. With over 18 albums and counting to their credit Tony Buck and Cadillac Angels continue to show no signs of slowing down. \n\n  \n  \n\n\n\n\n\nHILLBILLY SOUL SURFERS ARE: Instrumental surf rock / rock and roll band from Los Angeles\, California.
URL:https://thesirenmorrobay.com/event/hillbilly-surf-stomp-featuring-cadillac-angels-cuddlefish-hillbilly-soul-surfers/
LOCATION:The Siren\, 900 Main St.\, Morro Bay\, CA\, 93422\, United States
ATTACH;FMTTYPE=image/jpeg:https://thesirenmorrobay.com/wp-content/uploads/2024/08/IMG_1234.jpg
END:VEVENT
END:VCALENDAR