BEGIN:VCALENDAR
VERSION:2.0
PRODID:-//The Siren, Morro Bay, CA - ECPv5.1.6//NONSGML v1.0//EN
CALSCALE:GREGORIAN
METHOD:PUBLISH
X-WR-CALNAME:The Siren, Morro Bay, CA
X-ORIGINAL-URL:https://thesirenmorrobay.com
X-WR-CALDESC:Events for The Siren, Morro Bay, CA
BEGIN:VTIMEZONE
TZID:America/Los_Angeles
BEGIN:DAYLIGHT
TZOFFSETFROM:-0800
TZOFFSETTO:-0700
TZNAME:PDT
DTSTART:20240310T100000
END:DAYLIGHT
BEGIN:STANDARD
TZOFFSETFROM:-0700
TZOFFSETTO:-0800
TZNAME:PST
DTSTART:20241103T090000
END:STANDARD
END:VTIMEZONE
BEGIN:VEVENT
DTSTART;TZID=America/Los_Angeles:20240504T200000
DTEND;TZID=America/Los_Angeles:20240504T223000
DTSTAMP:20260420T014115
CREATED:20230725T164359Z
LAST-MODIFIED:20240414T060820Z
UID:6706-1714852800-1714861800@thesirenmorrobay.com
SUMMARY:Highway Starr ~ The Ultimate Tribute To Modern Country Music! (Car show after party)
DESCRIPTION:Morro Bay Car Show Weekend after party! Their vast set list includes contemporary hits by Jelly Roll\, Zack Bryan\, Morgan Wallen\, Jason Aldean\, Luke Bryan\, Florida Georgia Line\, Kenny Chesney\, Zac Brown\, Keith Urban\, Eric Church and many more! \nSouthern California’s Premier Modern Country Cover Band. Creating amazing moments through Country Music\, Musicianship\, Attitude\, and Crowd interaction. \nSpawn from the outskirts of Los Angeles and Ventura\, the band features lead vocalist Dave Rea\, along with Scott Felton on lead guitar\, Eric Sachs provides the rolling thunder on bass opposite the powerhouse drumming and percussion of Joel Meza and Aaron Roth\, who round out the band’s rhythm section. Not just another rehashed “Saloon Band”\, HIGHWAYSTARR has raised the standard by combining the music\, attitude and showmanship in their concert style shows throughout the region.  Past festival work includes\, Simi Valley Roundup Country Music Festival\, Surf Rodeo Summer Music Festival\, Borderline Party in the Park Festival\, 100.7 KHAY Fest\, Roaring Nights L.A. Zoo\, Oak Heart Festival and many more. \n\n 
URL:https://thesirenmorrobay.com/event/highway-starr-the-ultimate-tribute-to-modern-country-music/
LOCATION:The Siren\, 900 Main St.\, Morro Bay\, CA\, 93422\, United States
ATTACH;FMTTYPE=image/png:https://thesirenmorrobay.com/wp-content/uploads/2023/07/image0.png
END:VEVENT
END:VCALENDAR