BEGIN:VCALENDAR
VERSION:2.0
PRODID:-//The Siren, Morro Bay, CA - ECPv5.1.6//NONSGML v1.0//EN
CALSCALE:GREGORIAN
METHOD:PUBLISH
X-WR-CALNAME:The Siren, Morro Bay, CA
X-ORIGINAL-URL:https://thesirenmorrobay.com
X-WR-CALDESC:Events for The Siren, Morro Bay, CA
BEGIN:VTIMEZONE
TZID:America/Los_Angeles
BEGIN:DAYLIGHT
TZOFFSETFROM:-0800
TZOFFSETTO:-0700
TZNAME:PDT
DTSTART:20180311T100000
END:DAYLIGHT
BEGIN:STANDARD
TZOFFSETFROM:-0700
TZOFFSETTO:-0800
TZNAME:PST
DTSTART:20181104T090000
END:STANDARD
END:VTIMEZONE
BEGIN:VEVENT
DTSTART;TZID=America/Los_Angeles:20180818T150000
DTEND;TZID=America/Los_Angeles:20180818T180000
DTSTAMP:20260421T061254
CREATED:20180723T220729Z
LAST-MODIFIED:20180723T220857Z
UID:2094-1534604400-1534615200@thesirenmorrobay.com
SUMMARY:Green To White
DESCRIPTION:FREE SHOW 3pm 21+ \n  \nReuniting after nearly a two and-a-half year hiatus! \nGreen to White\, culminated from three individuals with different musical backgrounds. The Americana Fusion\, group comprised of Jason Clark (vocals & percussion)\, Eric Hunter (vocals & guitar) James Gallardo (bassist\, percussion and vocals) all met at Cuesta Community College in 2013.\nG2W started playing together on the “side of the street\,” on the corner between Gap and Express in San Luis Obispo over five years ago. Reuniting after their two year hiatus\, the trio will be releasing their second album titled Technologically Sound.\nG2W is known for their dramatic\, creative\, one-of-kind original flare (on and off stage); that appeals to all ages & covers a wide variety of musical influences from the 1930’s to the modern day.\n“Technologically Sound” album release: August 7th\, 2018\n(for details: greentowhite3@gmail.com):
URL:https://thesirenmorrobay.com/event/green-to-white/
LOCATION:The Siren\, 900 Main St.\, Morro Bay\, CA\, 93422\, United States
END:VEVENT
END:VCALENDAR