BEGIN:VCALENDAR
VERSION:2.0
PRODID:-//The Siren, Morro Bay, CA - ECPv5.1.6//NONSGML v1.0//EN
CALSCALE:GREGORIAN
METHOD:PUBLISH
X-WR-CALNAME:The Siren, Morro Bay, CA
X-ORIGINAL-URL:https://thesirenmorrobay.com
X-WR-CALDESC:Events for The Siren, Morro Bay, CA
BEGIN:VTIMEZONE
TZID:America/Los_Angeles
BEGIN:DAYLIGHT
TZOFFSETFROM:-0800
TZOFFSETTO:-0700
TZNAME:PDT
DTSTART:20190310T100000
END:DAYLIGHT
BEGIN:STANDARD
TZOFFSETFROM:-0700
TZOFFSETTO:-0800
TZNAME:PST
DTSTART:20191103T090000
END:STANDARD
END:VTIMEZONE
BEGIN:VEVENT
DTSTART;TZID=America/Los_Angeles:20190406T200000
DTEND;TZID=America/Los_Angeles:20190406T230000
DTSTAMP:20260421T132658
CREATED:20190220T043028Z
LAST-MODIFIED:20190220T043052Z
UID:2959-1554580800-1554591600@thesirenmorrobay.com
SUMMARY:Glam Cobra (The ultimate 80's hairband tribute!)
DESCRIPTION:Doors open at 8pm 21+  **(The venue will be closed from 7-8pm to complete soundcheck and prepare the venue for the show) Doors open at 8pm sharp.  Advance hard copy tickets are available in person at Boo Boo Record Store in SLO. Print at home/mobile/will call tickets can be purchased online at Ticketfly.com by clicking: HERE. All tickets are general admission unless otherwise stated. The Siren is a small\, intimate club style venue and seating is extremely limited on a first come first served basis after doors open and is dictated by estimated show sales. IT IS NOT A SEATED VENUE. Food is still served during concerts. We appreciate you supporting live music at the Siren! \n\nBased in Southern California\, Glam Cobra is known as the hardest working 80’s band around. Constantly touring throughout California\, Nevada\, Arizona\, Oregon and twice in Mexico\, Riki\, Nikki\, Zakk and Bobby Dazzle are always ready to bring a spectacular yet hilarious rock show true to the 80’s Glam Rock\, Hair band era. \nVoted “The Top 80’s Glam Rock Hair Metal band” west of the Mississippi and east of San Luis Obispo for 9 years straight\, be prepared to get pelvic thrusted back into 1987. With nearly perfect note reproduction of the best Hair Metal songs\, almost perfect bodies\, and super sexy hair\, it’s a show you won’t want to miss. Why go to the strip club when you see these guys live. They’re hotter then girls\, girls\, girls!
URL:https://thesirenmorrobay.com/event/glam-cobra-the-ultimate-80-hairband-tribute/
LOCATION:The Siren\, 900 Main St.\, Morro Bay\, CA\, 93422\, United States
END:VEVENT
END:VCALENDAR