BEGIN:VCALENDAR
VERSION:2.0
PRODID:-//The Siren, Morro Bay, CA - ECPv5.1.6//NONSGML v1.0//EN
CALSCALE:GREGORIAN
METHOD:PUBLISH
X-WR-CALNAME:The Siren, Morro Bay, CA
X-ORIGINAL-URL:https://thesirenmorrobay.com
X-WR-CALDESC:Events for The Siren, Morro Bay, CA
BEGIN:VTIMEZONE
TZID:America/Los_Angeles
BEGIN:DAYLIGHT
TZOFFSETFROM:-0800
TZOFFSETTO:-0700
TZNAME:PDT
DTSTART:20190310T100000
END:DAYLIGHT
BEGIN:STANDARD
TZOFFSETFROM:-0700
TZOFFSETTO:-0800
TZNAME:PST
DTSTART:20191103T090000
END:STANDARD
END:VTIMEZONE
BEGIN:VEVENT
DTSTART;TZID=America/Los_Angeles:20190323T150000
DTEND;TZID=America/Los_Angeles:20190323T180000
DTSTAMP:20260421T131954
CREATED:20190103T054935Z
LAST-MODIFIED:20190103T054935Z
UID:2796-1553353200-1553364000@thesirenmorrobay.com
SUMMARY:Ginger Cowgirl
DESCRIPTION:FREE SHOW 21+ \n\nWhile a taste for many styles of music is evident in Nashville-based band Ginger Cowgirl’s upcoming release\, their approach is nevertheless rooted in the tradition of classic country brevity\, wit and soul. Throw in some pedal steel\, rockin’ telecaster twang\, worldly lyrics and front-woman Stacy Antonel’s eclectic vocals\, and you have a unique brand of Americana music.\nThe core of Ginger Cowgirl is California-born Antonel\, a vocalist whose range and versatility allow her to sing rock\, jazz\, soul\, pop and country with equal proficiency and passion. She’s a classically trained pianist from the age of 7\, holds a degree from UC Berkeley\, and got her start in the music industry singing jingles while living in Buenos Aires\, Argentina. In 2013 she beat out hundreds of singers to win the $10\,000 grand prize on Fox’s televised singing competition “3 Minutes to Stardom”.\nGinger Cowgirl is currently finishing up their debut EP at Historic RCA Studio C. After a Spring 2019 release the band will be touring extensively\, both at home and abroad.
URL:https://thesirenmorrobay.com/event/ginger-cowgirl/
LOCATION:The Siren\, 900 Main St.\, Morro Bay\, CA\, 93422\, United States
END:VEVENT
END:VCALENDAR