BEGIN:VCALENDAR
VERSION:2.0
PRODID:-//The Siren, Morro Bay, CA - ECPv5.1.6//NONSGML v1.0//EN
CALSCALE:GREGORIAN
METHOD:PUBLISH
X-WR-CALNAME:The Siren, Morro Bay, CA
X-ORIGINAL-URL:https://thesirenmorrobay.com
X-WR-CALDESC:Events for The Siren, Morro Bay, CA
BEGIN:VTIMEZONE
TZID:America/Los_Angeles
BEGIN:DAYLIGHT
TZOFFSETFROM:-0800
TZOFFSETTO:-0700
TZNAME:PDT
DTSTART:20250309T100000
END:DAYLIGHT
BEGIN:STANDARD
TZOFFSETFROM:-0700
TZOFFSETTO:-0800
TZNAME:PST
DTSTART:20251102T090000
END:STANDARD
END:VTIMEZONE
BEGIN:VEVENT
DTSTART;TZID=America/Los_Angeles:20250312T193000
DTEND;TZID=America/Los_Angeles:20250312T230000
DTSTAMP:20260421T203125
CREATED:20211215T171421Z
LAST-MODIFIED:20250226T230628Z
UID:5109-1741807800-1741820400@thesirenmorrobay.com
SUMMARY:🎙️ Saint Patricks Day 🎙️! By sloKaraoke presents
DESCRIPTION:Back by popular demand! Karaoke returns to the Siren for our monthly\, amateur rock star party. Let your inner rockstar loose on the famous Siren stage with just about any song you can imagine! Smoke\, lights\, hosted by DJ Sokol. Alway fun\, always 21+ \n 
URL:https://thesirenmorrobay.com/event/free-karaoke-dance-party/
LOCATION:The Siren\, 900 Main St.\, Morro Bay\, CA\, 93422\, United States
ATTACH;FMTTYPE=image/jpeg:https://thesirenmorrobay.com/wp-content/uploads/2021/12/StPatty-1.jpg
END:VEVENT
END:VCALENDAR