BEGIN:VCALENDAR
VERSION:2.0
PRODID:-//The Siren, Morro Bay, CA - ECPv5.1.6//NONSGML v1.0//EN
CALSCALE:GREGORIAN
METHOD:PUBLISH
X-WR-CALNAME:The Siren, Morro Bay, CA
X-ORIGINAL-URL:https://thesirenmorrobay.com
X-WR-CALDESC:Events for The Siren, Morro Bay, CA
BEGIN:VTIMEZONE
TZID:America/Los_Angeles
BEGIN:DAYLIGHT
TZOFFSETFROM:-0800
TZOFFSETTO:-0700
TZNAME:PDT
DTSTART:20190310T100000
END:DAYLIGHT
BEGIN:STANDARD
TZOFFSETFROM:-0700
TZOFFSETTO:-0800
TZNAME:PST
DTSTART:20191103T090000
END:STANDARD
END:VTIMEZONE
BEGIN:VEVENT
DTSTART;TZID=America/Los_Angeles:20190216T150000
DTEND;TZID=America/Los_Angeles:20190216T180000
DTSTAMP:20260421T131821
CREATED:20170319T201329Z
LAST-MODIFIED:20181129T192032Z
UID:652-1550329200-1550340000@thesirenmorrobay.com
SUMMARY:Five Parts Devil
DESCRIPTION:FREE SHOW 21+ \nSLO trio\, Americana\, Rockabilly\, Classic Nashville & Bakersfield\, roots music. Playing your favorite covers \n\n 
URL:https://thesirenmorrobay.com/event/five-parts-devil/
LOCATION:The Siren\, 900 Main St.\, Morro Bay\, CA\, 93422\, United States
END:VEVENT
END:VCALENDAR