BEGIN:VCALENDAR
VERSION:2.0
PRODID:-//The Siren, Morro Bay, CA - ECPv5.1.6//NONSGML v1.0//EN
CALSCALE:GREGORIAN
METHOD:PUBLISH
X-WR-CALNAME:The Siren, Morro Bay, CA
X-ORIGINAL-URL:https://thesirenmorrobay.com
X-WR-CALDESC:Events for The Siren, Morro Bay, CA
BEGIN:VTIMEZONE
TZID:America/Los_Angeles
BEGIN:DAYLIGHT
TZOFFSETFROM:-0800
TZOFFSETTO:-0700
TZNAME:PDT
DTSTART:20240310T100000
END:DAYLIGHT
BEGIN:STANDARD
TZOFFSETFROM:-0700
TZOFFSETTO:-0800
TZNAME:PST
DTSTART:20241103T090000
END:STANDARD
END:VTIMEZONE
BEGIN:VEVENT
DTSTART;TZID=America/Los_Angeles:20240718T183000
DTEND;TZID=America/Los_Angeles:20240718T223000
DTSTAMP:20260421T215846
CREATED:20240401T033500Z
LAST-MODIFIED:20240401T033500Z
UID:7315-1721327400-1721341800@thesirenmorrobay.com
SUMMARY:EXCITER & MIDNIGHT w/WRAITH & HELLWITCH
DESCRIPTION:Presented by GS3events\, PinUp Productions & Bitter End Booking \nExciter\n\nFormed in Ottawa in 1978\, EXCITER are recognized as one of the original speed metal bands and a seminal influence on the thrash movement which emerged in the early 1980s. Early classics including their 1983 debut ‘Heavy Metal Maniac’ and 1984’s ‘Violence And Force’ cemented the band’s reputation\, bolstered by tours with Mercyful Fate\, Motorhead\, Megadeth\, Manowar\, and Accept. Loudwire name-checked Exciter in its ‘Top 10 Speed Metal Songs Released Before Thrash’ stating ‘Heavy Metal Maniac’ preceded Metallica’s thrash-defining-line-in-the-sand ‘Kill ‘Em All’ by a matter of weeks in 1983.’ The band currently consists of original members Dan Beehler (drums/vocals) & Allan Johnson (bass) who are joined by guitarist Daniel Dekay. Known for their energetic\, tight\, and deafening performances\, the band plays material from across their entire legendary Beehler fronted catalog & have remained active with shows all over the world.\n\nMidnight\n\nThe notorious and prolific Cleveland cult\, Midnight\, have been slaying the metal/punk underground with their own\, highly addictive brand of lust\, filth\, and sleaze dating back to the band’s inception in 2003. Filthy\, belligerent and obnoxious\, Midnight make music to start fights to. One-man-band\, Athenar\, has been churning out an ungodly racket\, dropping countless demos\, splits and EPs\, and in 2024 he returns with Midnight’s sixth full-length\, Hellish Expectations.\n\nWraith\n\nWraith is a blackened speed metal band that hails from Northwest Indiana. Matt Sokol\, the founding member\, on guitars and vocals. Mike Szymendera on drums\, Chris Petkus on bass and Jason Schultz on leads\n\nHellwitch\n\nHellwitch is a Technical Death/Thrash Metal band from Fort Lauderdale\, Florida\, United States of America\, formed in 1984.
URL:https://thesirenmorrobay.com/event/exciter-midnight-w-wraith-hellwitch/
LOCATION:The Siren\, 900 Main St.\, Morro Bay\, CA\, 93422\, United States
ATTACH;FMTTYPE=image/jpeg:https://thesirenmorrobay.com/wp-content/uploads/2024/03/Exciter.jpg
END:VEVENT
END:VCALENDAR