BEGIN:VCALENDAR
VERSION:2.0
PRODID:-//The Siren, Morro Bay, CA - ECPv5.1.6//NONSGML v1.0//EN
CALSCALE:GREGORIAN
METHOD:PUBLISH
X-WR-CALNAME:The Siren, Morro Bay, CA
X-ORIGINAL-URL:https://thesirenmorrobay.com
X-WR-CALDESC:Events for The Siren, Morro Bay, CA
BEGIN:VTIMEZONE
TZID:America/Los_Angeles
BEGIN:DAYLIGHT
TZOFFSETFROM:-0800
TZOFFSETTO:-0700
TZNAME:PDT
DTSTART:20250309T100000
END:DAYLIGHT
BEGIN:STANDARD
TZOFFSETFROM:-0700
TZOFFSETTO:-0800
TZNAME:PST
DTSTART:20251102T090000
END:STANDARD
END:VTIMEZONE
BEGIN:VEVENT
DTSTART;TZID=America/Los_Angeles:20250329T140000
DTEND;TZID=America/Los_Angeles:20250329T170000
DTSTAMP:20260420T195447
CREATED:20250321T044317Z
LAST-MODIFIED:20250321T044317Z
UID:8086-1743256800-1743267600@thesirenmorrobay.com
SUMMARY:Echo! (FREE AFTERNOON SHOW)
DESCRIPTION:Catch Echo live! It’s a fun show with hits from The Cult\, Motörhead\, The Fixx\, Plimsouls\, The Cars\, Tears for Fears and tons more. It’s a power trio with local favorites Rolf Gehrung\, Todd Andrew\, and Nathan Slawson. It’s going to awesome\, come on down!
URL:https://thesirenmorrobay.com/event/echo-free-afternoon-show/
LOCATION:The Siren\, 900 Main St.\, Morro Bay\, CA\, 93422\, United States
ATTACH;FMTTYPE=image/jpeg:https://thesirenmorrobay.com/wp-content/uploads/2025/03/echo.jpg
END:VEVENT
END:VCALENDAR